BEGIN:VCALENDAR
VERSION:2.0
PRODID:-//UFOLEP 38 - ECPv6.15.20//NONSGML v1.0//EN
CALSCALE:GREGORIAN
METHOD:PUBLISH
X-ORIGINAL-URL:https://ufolep38.org
X-WR-CALDESC:Évènements pour UFOLEP 38
REFRESH-INTERVAL;VALUE=DURATION:PT1H
X-Robots-Tag:noindex
X-PUBLISHED-TTL:PT1H
BEGIN:VTIMEZONE
TZID:Europe/Paris
BEGIN:DAYLIGHT
TZOFFSETFROM:+0100
TZOFFSETTO:+0200
TZNAME:CEST
DTSTART:20240331T010000
END:DAYLIGHT
BEGIN:STANDARD
TZOFFSETFROM:+0200
TZOFFSETTO:+0100
TZNAME:CET
DTSTART:20241027T010000
END:STANDARD
BEGIN:DAYLIGHT
TZOFFSETFROM:+0100
TZOFFSETTO:+0200
TZNAME:CEST
DTSTART:20250330T010000
END:DAYLIGHT
BEGIN:STANDARD
TZOFFSETFROM:+0200
TZOFFSETTO:+0100
TZNAME:CET
DTSTART:20251026T010000
END:STANDARD
BEGIN:DAYLIGHT
TZOFFSETFROM:+0100
TZOFFSETTO:+0200
TZNAME:CEST
DTSTART:20260329T010000
END:DAYLIGHT
BEGIN:STANDARD
TZOFFSETFROM:+0200
TZOFFSETTO:+0100
TZNAME:CET
DTSTART:20261025T010000
END:STANDARD
END:VTIMEZONE
BEGIN:VEVENT
DTSTART;VALUE=DATE:20250419
DTEND;VALUE=DATE:20250420
DTSTAMP:20260424T132032
CREATED:20250130T122748Z
LAST-MODIFIED:20250130T122748Z
UID:65962-1745020800-1745107199@ufolep38.org
SUMMARY:Cheerleading - Coupe Nationale
DESCRIPTION:
URL:https://ufolep38.org/events/cheerleading-coupe-nationale/
LOCATION:Lormont (33)\, France
ATTACH;FMTTYPE=image/jpeg:https://ufolep38.org/wp-content/uploads/2025/01/ufolep-38-1000025574-243.jpg
END:VEVENT
BEGIN:VEVENT
DTSTART;VALUE=DATE:20250419
DTEND;VALUE=DATE:20250421
DTSTAMP:20260424T132032
CREATED:20250205T082154Z
LAST-MODIFIED:20250205T082154Z
UID:66052-1745020800-1745193599@ufolep38.org
SUMMARY:Badminton - 22ème Rencontre Nationale
DESCRIPTION:
URL:https://ufolep38.org/events/badminton-22eme-rencontre-nationale/
LOCATION:Nevers (58)
CATEGORIES:Badminton
ATTACH;FMTTYPE=application/pdf:https://ufolep38.org/wp-content/uploads/2025/02/ufolep-38-Affiche-nationale-de-badminton-41.pdf
END:VEVENT
END:VCALENDAR