BEGIN:VCALENDAR
VERSION:2.0
PRODID:-//UFOLEP 38 - ECPv6.15.20//NONSGML v1.0//EN
CALSCALE:GREGORIAN
METHOD:PUBLISH
X-ORIGINAL-URL:https://ufolep38.org
X-WR-CALDESC:Évènements pour UFOLEP 38
REFRESH-INTERVAL;VALUE=DURATION:PT1H
X-Robots-Tag:noindex
X-PUBLISHED-TTL:PT1H
BEGIN:VTIMEZONE
TZID:Europe/Paris
BEGIN:DAYLIGHT
TZOFFSETFROM:+0100
TZOFFSETTO:+0200
TZNAME:CEST
DTSTART:20240331T010000
END:DAYLIGHT
BEGIN:STANDARD
TZOFFSETFROM:+0200
TZOFFSETTO:+0100
TZNAME:CET
DTSTART:20241027T010000
END:STANDARD
BEGIN:DAYLIGHT
TZOFFSETFROM:+0100
TZOFFSETTO:+0200
TZNAME:CEST
DTSTART:20250330T010000
END:DAYLIGHT
BEGIN:STANDARD
TZOFFSETFROM:+0200
TZOFFSETTO:+0100
TZNAME:CET
DTSTART:20251026T010000
END:STANDARD
BEGIN:DAYLIGHT
TZOFFSETFROM:+0100
TZOFFSETTO:+0200
TZNAME:CEST
DTSTART:20260329T010000
END:DAYLIGHT
BEGIN:STANDARD
TZOFFSETFROM:+0200
TZOFFSETTO:+0100
TZNAME:CET
DTSTART:20261025T010000
END:STANDARD
END:VTIMEZONE
BEGIN:VEVENT
DTSTART;VALUE=DATE:20250517
DTEND;VALUE=DATE:20250519
DTSTAMP:20260424T112329
CREATED:20250407T094452Z
LAST-MODIFIED:20250407T094651Z
UID:67858-1747440000-1747612799@ufolep38.org
SUMMARY:Cyclisme - Championnat National Bike Trial
DESCRIPTION:Circulaire du championnat
URL:https://ufolep38.org/events/cyclisme-championnat-national/
LOCATION:Buthiers (77)\, France
CATEGORIES:Cyclisme
ATTACH;FMTTYPE=image/jpeg:https://ufolep38.org/wp-content/uploads/2025/04/ufolep-38-image007-60-scaled.jpg
END:VEVENT
BEGIN:VEVENT
DTSTART;VALUE=DATE:20250517
DTEND;VALUE=DATE:20250519
DTSTAMP:20260424T112329
CREATED:20241205T132608Z
LAST-MODIFIED:20250402T085253Z
UID:65044-1747440000-1747612799@ufolep38.org
SUMMARY:Gymnastique Artistique - Compétition Demi-finales Nationales
DESCRIPTION:Circulaire demi-finales
URL:https://ufolep38.org/events/gymnastique-artistique-competition-demi-finale/
LOCATION:Crolles (38)\, France
CATEGORIES:Gymnastique
ATTACH;FMTTYPE=image/png:https://ufolep38.org/wp-content/uploads/2024/12/ufolep-38-Demi-finale-516.png
END:VEVENT
BEGIN:VEVENT
DTSTART;VALUE=DATE:20250517
DTEND;VALUE=DATE:20250519
DTSTAMP:20260424T112329
CREATED:20250326T142500Z
LAST-MODIFIED:20250326T142500Z
UID:67473-1747440000-1747612799@ufolep38.org
SUMMARY:Tennis de table - Championnat National B
DESCRIPTION:
URL:https://ufolep38.org/events/tennis-de-table-championnat-national-b/
LOCATION:Guéret (23)\, France
ATTACH;FMTTYPE=application/pdf:https://ufolep38.org/wp-content/uploads/2025/03/ufolep-38-Circulaire-Tennis-de-table-B-2025-383.pdf
END:VEVENT
BEGIN:VEVENT
DTSTART;VALUE=DATE:20250518
DTEND;VALUE=DATE:20250519
DTSTAMP:20260424T112329
CREATED:20241205T124643Z
LAST-MODIFIED:20250423T060940Z
UID:65011-1747526400-1747612799@ufolep38.org
SUMMARY:Natation - Trophée des dauphins
DESCRIPTION:
URL:https://ufolep38.org/events/natation-journee-des-tout-petits/
LOCATION:Saint-Quentin-Fallavier (38)\, France
CATEGORIES:Natation
ATTACH;FMTTYPE=application/pdf:https://ufolep38.org/wp-content/uploads/2024/12/ufolep-38-Affiche-trophee-des-dauphins-289.pdf
END:VEVENT
BEGIN:VEVENT
DTSTART;VALUE=DATE:20250518
DTEND;VALUE=DATE:20250519
DTSTAMP:20260424T112329
CREATED:20250304T134315Z
LAST-MODIFIED:20250506T094328Z
UID:66633-1747526400-1747612799@ufolep38.org
SUMMARY:Cyclisme - Départemental UFOLEP - Oyeu-Burcin
DESCRIPTION:Inscriptions
URL:https://ufolep38.org/events/cyclisme-departementale-ufolep-oyeu-burcin/
LOCATION:Oyeu-Burcin (38)\, France
CATEGORIES:Cyclisme
ATTACH;FMTTYPE=image/png:https://ufolep38.org/wp-content/uploads/2025/04/ufolep-38-Affiche-Oyeu-Burcin-289.png
END:VEVENT
END:VCALENDAR