BEGIN:VCALENDAR
VERSION:2.0
PRODID:-//UFOLEP 38 - ECPv6.15.20//NONSGML v1.0//EN
CALSCALE:GREGORIAN
METHOD:PUBLISH
X-ORIGINAL-URL:https://ufolep38.org
X-WR-CALDESC:Évènements pour UFOLEP 38
REFRESH-INTERVAL;VALUE=DURATION:PT1H
X-Robots-Tag:noindex
X-PUBLISHED-TTL:PT1H
BEGIN:VTIMEZONE
TZID:Europe/Paris
BEGIN:DAYLIGHT
TZOFFSETFROM:+0100
TZOFFSETTO:+0200
TZNAME:CEST
DTSTART:20240331T010000
END:DAYLIGHT
BEGIN:STANDARD
TZOFFSETFROM:+0200
TZOFFSETTO:+0100
TZNAME:CET
DTSTART:20241027T010000
END:STANDARD
BEGIN:DAYLIGHT
TZOFFSETFROM:+0100
TZOFFSETTO:+0200
TZNAME:CEST
DTSTART:20250330T010000
END:DAYLIGHT
BEGIN:STANDARD
TZOFFSETFROM:+0200
TZOFFSETTO:+0100
TZNAME:CET
DTSTART:20251026T010000
END:STANDARD
BEGIN:DAYLIGHT
TZOFFSETFROM:+0100
TZOFFSETTO:+0200
TZNAME:CEST
DTSTART:20260329T010000
END:DAYLIGHT
BEGIN:STANDARD
TZOFFSETFROM:+0200
TZOFFSETTO:+0100
TZNAME:CET
DTSTART:20261025T010000
END:STANDARD
END:VTIMEZONE
BEGIN:VEVENT
DTSTART;VALUE=DATE:20250524
DTEND;VALUE=DATE:20250526
DTSTAMP:20260424T112329
CREATED:20241211T092157Z
LAST-MODIFIED:20250402T090450Z
UID:65115-1748044800-1748217599@ufolep38.org
SUMMARY:Gymnastique Artistique - Finale filière Jeune G2
DESCRIPTION:Circulaire Finale Filière Jeune G2
URL:https://ufolep38.org/events/gymnastique-artistique-finale-filiere-jeune-g2/
LOCATION:Montélimar (26)
CATEGORIES:Gymnastique
ATTACH;FMTTYPE=image/png:https://ufolep38.org/wp-content/uploads/2024/12/ufolep-38-Affiche-Finale-Filiere-Jeune-G2-39.png
END:VEVENT
BEGIN:VEVENT
DTSTART;VALUE=DATE:20250524
DTEND;VALUE=DATE:20250526
DTSTAMP:20260424T112329
CREATED:20250410T141634Z
LAST-MODIFIED:20250410T143048Z
UID:68062-1748044800-1748217599@ufolep38.org
SUMMARY:GRS - Championnat National Équipes
DESCRIPTION:Circulaire Nationale GRS 2025
URL:https://ufolep38.org/events/grs-championnat-national-equipes/
LOCATION:Boé (47)\, France
CATEGORIES:GRS
ATTACH;FMTTYPE=image/jpeg:https://ufolep38.org/wp-content/uploads/2025/04/ufolep-38-content-119.jpeg
END:VEVENT
BEGIN:VEVENT
DTSTART;VALUE=DATE:20250524
DTEND;VALUE=DATE:20250526
DTSTAMP:20260424T112329
CREATED:20250410T143729Z
LAST-MODIFIED:20250410T143822Z
UID:68066-1748044800-1748217599@ufolep38.org
SUMMARY:Trampoline - Finale Nationale - Rassemblement Jeunes
DESCRIPTION:Dossier Finale Trampoline Lourdes 2025
URL:https://ufolep38.org/events/trampoline-finale-nationale-rassemblement-jeunes/
LOCATION:Lourdes (65)\, France
CATEGORIES:Trampoline
ATTACH;FMTTYPE=image/jpeg:https://ufolep38.org/wp-content/uploads/2025/04/ufolep-38-content-130.jpeg
END:VEVENT
BEGIN:VEVENT
DTSTART;VALUE=DATE:20250524
DTEND;VALUE=DATE:20250609
DTSTAMP:20260424T112329
CREATED:20250521T082308Z
LAST-MODIFIED:20250521T082308Z
UID:68785-1748044800-1749427199@ufolep38.org
SUMMARY:La quinzaine de la petite enfance
DESCRIPTION:Lien d’inscription
URL:https://ufolep38.org/events/la-quinzaine-de-la-petite-enfance/
ATTACH;FMTTYPE=application/pdf:https://ufolep38.org/wp-content/uploads/2025/05/ufolep-38-LaQuinzaine_affiche-106.pdf
END:VEVENT
END:VCALENDAR