BEGIN:VCALENDAR
VERSION:2.0
PRODID:-//UFOLEP 38 - ECPv6.15.20//NONSGML v1.0//EN
CALSCALE:GREGORIAN
METHOD:PUBLISH
X-ORIGINAL-URL:https://ufolep38.org
X-WR-CALDESC:Évènements pour UFOLEP 38
REFRESH-INTERVAL;VALUE=DURATION:PT1H
X-Robots-Tag:noindex
X-PUBLISHED-TTL:PT1H
BEGIN:VTIMEZONE
TZID:Europe/Paris
BEGIN:DAYLIGHT
TZOFFSETFROM:+0100
TZOFFSETTO:+0200
TZNAME:CEST
DTSTART:20240331T010000
END:DAYLIGHT
BEGIN:STANDARD
TZOFFSETFROM:+0200
TZOFFSETTO:+0100
TZNAME:CET
DTSTART:20241027T010000
END:STANDARD
BEGIN:DAYLIGHT
TZOFFSETFROM:+0100
TZOFFSETTO:+0200
TZNAME:CEST
DTSTART:20250330T010000
END:DAYLIGHT
BEGIN:STANDARD
TZOFFSETFROM:+0200
TZOFFSETTO:+0100
TZNAME:CET
DTSTART:20251026T010000
END:STANDARD
BEGIN:DAYLIGHT
TZOFFSETFROM:+0100
TZOFFSETTO:+0200
TZNAME:CEST
DTSTART:20260329T010000
END:DAYLIGHT
BEGIN:STANDARD
TZOFFSETFROM:+0200
TZOFFSETTO:+0100
TZNAME:CET
DTSTART:20261025T010000
END:STANDARD
END:VTIMEZONE
BEGIN:VEVENT
DTSTART;VALUE=DATE:20250524
DTEND;VALUE=DATE:20250609
DTSTAMP:20260424T092711
CREATED:20250521T082308Z
LAST-MODIFIED:20250521T082308Z
UID:68785-1748044800-1749427199@ufolep38.org
SUMMARY:La quinzaine de la petite enfance
DESCRIPTION:Lien d’inscription
URL:https://ufolep38.org/events/la-quinzaine-de-la-petite-enfance/
ATTACH;FMTTYPE=application/pdf:https://ufolep38.org/wp-content/uploads/2025/05/ufolep-38-LaQuinzaine_affiche-106.pdf
END:VEVENT
BEGIN:VEVENT
DTSTART;VALUE=DATE:20250529
DTEND;VALUE=DATE:20250601
DTSTAMP:20260424T092711
CREATED:20250120T123553Z
LAST-MODIFIED:20250520T075919Z
UID:65852-1748476800-1748735999@ufolep38.org
SUMMARY:Marche Nordique - Rencontre Nationale
DESCRIPTION:Lien d’inscription
URL:https://ufolep38.org/events/marche-nordique-rencontre-nationale-2/
LOCATION:Annecy (74)\, France
CATEGORIES:Marche Nordique
ATTACH;FMTTYPE=image/png:https://ufolep38.org/wp-content/uploads/2025/01/ufolep-38-Copie-de-Marche-nordique-Rencontre-nationale-74-4-164.png
END:VEVENT
BEGIN:VEVENT
DTSTART;VALUE=DATE:20250530
DTEND;VALUE=DATE:20250601
DTSTAMP:20260424T092711
CREATED:20250228T143730Z
LAST-MODIFIED:20250520T071742Z
UID:66493-1748563200-1748735999@ufolep38.org
SUMMARY:Cyclisme - Championnat National de VTT
DESCRIPTION:Circulaire
URL:https://ufolep38.org/events/cyclisme-championnat-national-de-vtt/
LOCATION:Haute Vienne (87)
CATEGORIES:Cyclisme
ATTACH;FMTTYPE=image/jpeg:https://ufolep38.org/wp-content/uploads/2025/02/ufolep-38-481825606_1071539431670560_5961810225264441436_n-273.jpg
END:VEVENT
BEGIN:VEVENT
DTSTART;VALUE=DATE:20250530
DTEND;VALUE=DATE:20250601
DTSTAMP:20260424T092711
CREATED:20250326T143015Z
LAST-MODIFIED:20250326T143015Z
UID:67476-1748563200-1748735999@ufolep38.org
SUMMARY:Volleyball - Coupes Nationales volley ball jeunes
DESCRIPTION:
URL:https://ufolep38.org/events/volleyball-coupes-nationales-volley-ball-jeunes/
LOCATION:Bourg-en-Bresse (01)
CATEGORIES:Volley-ball
ATTACH;FMTTYPE=application/pdf:https://ufolep38.org/wp-content/uploads/2025/03/ufolep-38-202503_Circulaire-volley-jeunes-388.pdf
END:VEVENT
END:VCALENDAR