BEGIN:VCALENDAR
VERSION:2.0
PRODID:-//UFOLEP 38 - ECPv6.15.20//NONSGML v1.0//EN
CALSCALE:GREGORIAN
METHOD:PUBLISH
X-ORIGINAL-URL:https://ufolep38.org
X-WR-CALDESC:Évènements pour UFOLEP 38
REFRESH-INTERVAL;VALUE=DURATION:PT1H
X-Robots-Tag:noindex
X-PUBLISHED-TTL:PT1H
BEGIN:VTIMEZONE
TZID:Europe/Paris
BEGIN:DAYLIGHT
TZOFFSETFROM:+0100
TZOFFSETTO:+0200
TZNAME:CEST
DTSTART:20240331T010000
END:DAYLIGHT
BEGIN:STANDARD
TZOFFSETFROM:+0200
TZOFFSETTO:+0100
TZNAME:CET
DTSTART:20241027T010000
END:STANDARD
BEGIN:DAYLIGHT
TZOFFSETFROM:+0100
TZOFFSETTO:+0200
TZNAME:CEST
DTSTART:20250330T010000
END:DAYLIGHT
BEGIN:STANDARD
TZOFFSETFROM:+0200
TZOFFSETTO:+0100
TZNAME:CET
DTSTART:20251026T010000
END:STANDARD
BEGIN:DAYLIGHT
TZOFFSETFROM:+0100
TZOFFSETTO:+0200
TZNAME:CEST
DTSTART:20260329T010000
END:DAYLIGHT
BEGIN:STANDARD
TZOFFSETFROM:+0200
TZOFFSETTO:+0100
TZNAME:CET
DTSTART:20261025T010000
END:STANDARD
END:VTIMEZONE
BEGIN:VEVENT
DTSTART;VALUE=DATE:20250601
DTEND;VALUE=DATE:20250701
DTSTAMP:20260424T092705
CREATED:20250528T112706Z
LAST-MODIFIED:20250528T112706Z
UID:69119-1748736000-1751327999@ufolep38.org
SUMMARY:La Rencontre de l'Autonomie
DESCRIPTION:Programme
URL:https://ufolep38.org/events/la-rencontre-de-lautonomie/
LOCATION:Sud Grésivaudan
ATTACH;FMTTYPE=application/pdf:https://ufolep38.org/wp-content/uploads/2025/05/ufolep-38-Affiche_RENCONTRES-AUTONOMIE-189.pdf
END:VEVENT
BEGIN:VEVENT
DTSTART;VALUE=DATE:20250621
DTEND;VALUE=DATE:20250622
DTSTAMP:20260424T092705
CREATED:20250304T134859Z
LAST-MODIFIED:20250701T120242Z
UID:66643-1750464000-1750550399@ufolep38.org
SUMMARY:Cyclisme - Chrono du Vercors
DESCRIPTION:Résultats INDIVIDUELS\nRésultats DUOS
URL:https://ufolep38.org/events/cyclisme-chrono-du-vercors-2/
CATEGORIES:Cyclisme
ATTACH;FMTTYPE=image/png:https://ufolep38.org/wp-content/uploads/2025/03/ufolep-38-affiche-chrono-du-vercors-163.png
END:VEVENT
BEGIN:VEVENT
DTSTART;VALUE=DATE:20250621
DTEND;VALUE=DATE:20250623
DTSTAMP:20260424T092705
CREATED:20241211T093548Z
LAST-MODIFIED:20250522T062823Z
UID:65121-1750464000-1750636799@ufolep38.org
SUMMARY:Gymnastique Artistique - Trophées de l'été
DESCRIPTION:Formulaire d’inscription
URL:https://ufolep38.org/events/gymnastique-artistique-trophees-de-lete/
LOCATION:L’Isle-d’Abeau (38)
CATEGORIES:Gymnastique
ATTACH;FMTTYPE=image/png:https://ufolep38.org/wp-content/uploads/2024/12/ufolep-38-Affiche-Fete-de-la-musique-Danse-Illustratif-Colore-163.png
END:VEVENT
END:VCALENDAR