BEGIN:VCALENDAR
VERSION:2.0
PRODID:-//UFOLEP 38 - ECPv6.15.20//NONSGML v1.0//EN
CALSCALE:GREGORIAN
METHOD:PUBLISH
X-ORIGINAL-URL:https://ufolep38.org
X-WR-CALDESC:Évènements pour UFOLEP 38
REFRESH-INTERVAL;VALUE=DURATION:PT1H
X-Robots-Tag:noindex
X-PUBLISHED-TTL:PT1H
BEGIN:VTIMEZONE
TZID:Europe/Paris
BEGIN:DAYLIGHT
TZOFFSETFROM:+0100
TZOFFSETTO:+0200
TZNAME:CEST
DTSTART:20250330T010000
END:DAYLIGHT
BEGIN:STANDARD
TZOFFSETFROM:+0200
TZOFFSETTO:+0100
TZNAME:CET
DTSTART:20251026T010000
END:STANDARD
BEGIN:DAYLIGHT
TZOFFSETFROM:+0100
TZOFFSETTO:+0200
TZNAME:CEST
DTSTART:20260329T010000
END:DAYLIGHT
BEGIN:STANDARD
TZOFFSETFROM:+0200
TZOFFSETTO:+0100
TZNAME:CET
DTSTART:20261025T010000
END:STANDARD
BEGIN:DAYLIGHT
TZOFFSETFROM:+0100
TZOFFSETTO:+0200
TZNAME:CEST
DTSTART:20270328T010000
END:DAYLIGHT
BEGIN:STANDARD
TZOFFSETFROM:+0200
TZOFFSETTO:+0100
TZNAME:CET
DTSTART:20271031T010000
END:STANDARD
END:VTIMEZONE
BEGIN:VEVENT
DTSTART;VALUE=DATE:20260307
DTEND;VALUE=DATE:20260309
DTSTAMP:20260423T175745
CREATED:20251120T083857Z
LAST-MODIFIED:20260226T094414Z
UID:72972-1772841600-1773014399@ufolep38.org
SUMMARY:GRS - Championnat départemental Équipes\, Festival et Challenge Jeunesse
DESCRIPTION:
URL:https://ufolep38.org/events/grs-championnat-departemental-equipes-festival-et-challenge-jeunesse/
LOCATION:Tignieu Jameyzieu (38)
CATEGORIES:GRS
ATTACH;FMTTYPE=image/jpeg:https://ufolep38.org/wp-content/uploads/2025/11/ufolep-38-637403922_1532221198507556_8665235723405197983_n-89.jpg
END:VEVENT
BEGIN:VEVENT
DTSTART;VALUE=DATE:20260307
DTEND;VALUE=DATE:20260309
DTSTAMP:20260423T175745
CREATED:20260305T085917Z
LAST-MODIFIED:20260305T090305Z
UID:74248-1772841600-1773014399@ufolep38.org
SUMMARY:SKI ET SPORT DE NEIGE - Rencontre Nationale
DESCRIPTION:Circulaire\nInscriptions
URL:https://ufolep38.org/events/ski-et-sport-de-neige-rencontre-nationale/
LOCATION:Crest Voland (73)
CATEGORIES:Ski
ATTACH;FMTTYPE=image/png:https://ufolep38.org/wp-content/uploads/2026/03/ufolep-38-National-Ski-et-Sports-de-Neige-2026-26.png
END:VEVENT
BEGIN:VEVENT
DTSTART;VALUE=DATE:20260308
DTEND;VALUE=DATE:20260309
DTSTAMP:20260423T175745
CREATED:20251021T122155Z
LAST-MODIFIED:20251114T074601Z
UID:72345-1772928000-1773014399@ufolep38.org
SUMMARY:NATATION - 5ème Journée
DESCRIPTION:
URL:https://ufolep38.org/events/natation-5eme-journee-2/
LOCATION:Sevenne (38)
CATEGORIES:Natation
ATTACH;FMTTYPE=image/png:https://ufolep38.org/wp-content/uploads/2025/10/ufolep-38-Sevenne-5eme-journee-61.png
END:VEVENT
BEGIN:VEVENT
DTSTART;TZID=Europe/Paris:20260308T100000
DTEND;TZID=Europe/Paris:20260308T180000
DTSTAMP:20260423T175745
CREATED:20251216T080847Z
LAST-MODIFIED:20260217T130530Z
UID:73370-1772964000-1772992800@ufolep38.org
SUMMARY:TAEKWONDO - Journée de la femme (Self Défense)
DESCRIPTION:
URL:https://ufolep38.org/events/taekwondo-journee-de-la-femme-self-defense/
ATTACH;FMTTYPE=image/jpeg:https://ufolep38.org/wp-content/uploads/2025/12/ufolep-38-2602SDRenage-57-scaled.jpg
END:VEVENT
END:VCALENDAR