BEGIN:VCALENDAR
VERSION:2.0
PRODID:-//UFOLEP 38 - ECPv6.15.20//NONSGML v1.0//EN
CALSCALE:GREGORIAN
METHOD:PUBLISH
X-ORIGINAL-URL:https://ufolep38.org
X-WR-CALDESC:Évènements pour UFOLEP 38
REFRESH-INTERVAL;VALUE=DURATION:PT1H
X-Robots-Tag:noindex
X-PUBLISHED-TTL:PT1H
BEGIN:VTIMEZONE
TZID:Europe/Paris
BEGIN:DAYLIGHT
TZOFFSETFROM:+0100
TZOFFSETTO:+0200
TZNAME:CEST
DTSTART:20250330T010000
END:DAYLIGHT
BEGIN:STANDARD
TZOFFSETFROM:+0200
TZOFFSETTO:+0100
TZNAME:CET
DTSTART:20251026T010000
END:STANDARD
BEGIN:DAYLIGHT
TZOFFSETFROM:+0100
TZOFFSETTO:+0200
TZNAME:CEST
DTSTART:20260329T010000
END:DAYLIGHT
BEGIN:STANDARD
TZOFFSETFROM:+0200
TZOFFSETTO:+0100
TZNAME:CET
DTSTART:20261025T010000
END:STANDARD
BEGIN:DAYLIGHT
TZOFFSETFROM:+0100
TZOFFSETTO:+0200
TZNAME:CEST
DTSTART:20270328T010000
END:DAYLIGHT
BEGIN:STANDARD
TZOFFSETFROM:+0200
TZOFFSETTO:+0100
TZNAME:CET
DTSTART:20271031T010000
END:STANDARD
END:VTIMEZONE
BEGIN:VEVENT
DTSTART;VALUE=DATE:20260322
DTEND;VALUE=DATE:20260323
DTSTAMP:20260423T180456
CREATED:20251028T081455Z
LAST-MODIFIED:20260105T152503Z
UID:72398-1774137600-1774223999@ufolep38.org
SUMMARY:GYMNASTIQUE ARTISTIQUE - 2ème Parcours
DESCRIPTION:
URL:https://ufolep38.org/events/gymnastique-artistique-2eme-parcours-3/
LOCATION:Vinay (38)
CATEGORIES:Gymnastique
ATTACH;FMTTYPE=image/png:https://ufolep38.org/wp-content/uploads/2025/10/ufolep-38-GYM-2025-2026-Flyer-1-2.png
END:VEVENT
BEGIN:VEVENT
DTSTART;VALUE=DATE:20260322
DTEND;VALUE=DATE:20260323
DTSTAMP:20260423T180456
CREATED:20260305T090633Z
LAST-MODIFIED:20260305T090633Z
UID:74255-1774137600-1774223999@ufolep38.org
SUMMARY:CYCLISME - Grand Prix d'Alpespace
DESCRIPTION:
URL:https://ufolep38.org/events/cyclisme-grand-prix-dalpespace-2/
LOCATION:Francin (73)
CATEGORIES:Cyclisme
ATTACH;FMTTYPE=image/png:https://ufolep38.org/wp-content/uploads/2026/03/ufolep-38-Affiche-Alpespace-2026-36.png
END:VEVENT
END:VCALENDAR