BEGIN:VCALENDAR
VERSION:2.0
PRODID:-//UFOLEP 38 - ECPv6.15.20//NONSGML v1.0//EN
CALSCALE:GREGORIAN
METHOD:PUBLISH
X-ORIGINAL-URL:https://ufolep38.org
X-WR-CALDESC:Évènements pour UFOLEP 38
REFRESH-INTERVAL;VALUE=DURATION:PT1H
X-Robots-Tag:noindex
X-PUBLISHED-TTL:PT1H
BEGIN:VTIMEZONE
TZID:Europe/Paris
BEGIN:DAYLIGHT
TZOFFSETFROM:+0100
TZOFFSETTO:+0200
TZNAME:CEST
DTSTART:20250330T010000
END:DAYLIGHT
BEGIN:STANDARD
TZOFFSETFROM:+0200
TZOFFSETTO:+0100
TZNAME:CET
DTSTART:20251026T010000
END:STANDARD
BEGIN:DAYLIGHT
TZOFFSETFROM:+0100
TZOFFSETTO:+0200
TZNAME:CEST
DTSTART:20260329T010000
END:DAYLIGHT
BEGIN:STANDARD
TZOFFSETFROM:+0200
TZOFFSETTO:+0100
TZNAME:CET
DTSTART:20261025T010000
END:STANDARD
BEGIN:DAYLIGHT
TZOFFSETFROM:+0100
TZOFFSETTO:+0200
TZNAME:CEST
DTSTART:20270328T010000
END:DAYLIGHT
BEGIN:STANDARD
TZOFFSETFROM:+0200
TZOFFSETTO:+0100
TZNAME:CET
DTSTART:20271031T010000
END:STANDARD
END:VTIMEZONE
BEGIN:VEVENT
DTSTART;VALUE=DATE:20260710
DTEND;VALUE=DATE:20260713
DTSTAMP:20260424T000037
CREATED:20260119T133229Z
LAST-MODIFIED:20260119T133229Z
UID:73902-1783641600-1783900799@ufolep38.org
SUMMARY:CYCLISME - Championnat National Cyclosport d'Activités Cyclistes
DESCRIPTION:
URL:https://ufolep38.org/events/cyclisme-championnat-national-cyclosport-dactivites-cyclistes/
LOCATION:Foussignac (16)
CATEGORIES:Cyclisme
END:VEVENT
BEGIN:VEVENT
DTSTART;VALUE=DATE:20260710
DTEND;VALUE=DATE:20260715
DTSTAMP:20260424T000037
CREATED:20250908T122811Z
LAST-MODIFIED:20251028T082406Z
UID:71164-1783641600-1784073599@ufolep38.org
SUMMARY:GYMNASTIQUE ARTISTIQUE - BFA
DESCRIPTION:Inscriptions
URL:https://ufolep38.org/events/gymnastique-artistique-bfa/
LOCATION:Montluel (01)
CATEGORIES:Gymnastique
ATTACH;FMTTYPE=image/png:https://ufolep38.org/wp-content/uploads/2025/09/ufolep-38-4-140.png
END:VEVENT
END:VCALENDAR