BEGIN:VCALENDAR
VERSION:2.0
PRODID:-//UFOLEP 38 - ECPv6.15.20//NONSGML v1.0//EN
CALSCALE:GREGORIAN
METHOD:PUBLISH
X-ORIGINAL-URL:https://ufolep38.org
X-WR-CALDESC:Évènements pour UFOLEP 38
REFRESH-INTERVAL;VALUE=DURATION:PT1H
X-Robots-Tag:noindex
X-PUBLISHED-TTL:PT1H
BEGIN:VTIMEZONE
TZID:Europe/Paris
BEGIN:DAYLIGHT
TZOFFSETFROM:+0100
TZOFFSETTO:+0200
TZNAME:CEST
DTSTART:20240331T010000
END:DAYLIGHT
BEGIN:STANDARD
TZOFFSETFROM:+0200
TZOFFSETTO:+0100
TZNAME:CET
DTSTART:20241027T010000
END:STANDARD
BEGIN:DAYLIGHT
TZOFFSETFROM:+0100
TZOFFSETTO:+0200
TZNAME:CEST
DTSTART:20250330T010000
END:DAYLIGHT
BEGIN:STANDARD
TZOFFSETFROM:+0200
TZOFFSETTO:+0100
TZNAME:CET
DTSTART:20251026T010000
END:STANDARD
BEGIN:DAYLIGHT
TZOFFSETFROM:+0100
TZOFFSETTO:+0200
TZNAME:CEST
DTSTART:20260329T010000
END:DAYLIGHT
BEGIN:STANDARD
TZOFFSETFROM:+0200
TZOFFSETTO:+0100
TZNAME:CET
DTSTART:20261025T010000
END:STANDARD
END:VTIMEZONE
BEGIN:VEVENT
DTSTART;VALUE=DATE:20250524
DTEND;VALUE=DATE:20250609
DTSTAMP:20260424T092929
CREATED:20250521T082308Z
LAST-MODIFIED:20250521T082308Z
UID:68785-1748044800-1749427199@ufolep38.org
SUMMARY:La quinzaine de la petite enfance
DESCRIPTION:Lien d’inscription
URL:https://ufolep38.org/events/la-quinzaine-de-la-petite-enfance/
ATTACH;FMTTYPE=application/pdf:https://ufolep38.org/wp-content/uploads/2025/05/ufolep-38-LaQuinzaine_affiche-106.pdf
END:VEVENT
BEGIN:VEVENT
DTSTART;VALUE=DATE:20250531
DTEND;VALUE=DATE:20250602
DTSTAMP:20260424T092929
CREATED:20250520T070722Z
LAST-MODIFIED:20250520T071404Z
UID:68751-1748649600-1748822399@ufolep38.org
SUMMARY:Gymnastique Artistique - Finales Jeunes
DESCRIPTION:Circulaire
URL:https://ufolep38.org/events/gymnastique-artistique-finales-jeunes/
LOCATION:Vigneux-de-Bretagne (44)
CATEGORIES:Gymnastique
ATTACH;FMTTYPE=image/jpeg:https://ufolep38.org/wp-content/uploads/2025/05/ufolep-38-content-2-87.jpeg
END:VEVENT
BEGIN:VEVENT
DTSTART;VALUE=DATE:20250601
DTEND;VALUE=DATE:20250602
DTSTAMP:20260424T092929
CREATED:20250304T134423Z
LAST-MODIFIED:20250521T133328Z
UID:66635-1748736000-1748822399@ufolep38.org
SUMMARY:Cyclisme - Grimpée du Collet d'Allevard
DESCRIPTION:Règlement\nLien d’inscription
URL:https://ufolep38.org/events/cyclisme-grimpee-du-super-collet-dallevard/
LOCATION:Collet d’Alevard (38)
CATEGORIES:Cyclisme
ATTACH;FMTTYPE=image/png:https://ufolep38.org/wp-content/uploads/2025/03/ufolep-38-affiche-grimpee-collet-dallevard-30.png
END:VEVENT
BEGIN:VEVENT
DTSTART;VALUE=DATE:20250601
DTEND;VALUE=DATE:20250701
DTSTAMP:20260424T092929
CREATED:20250528T112706Z
LAST-MODIFIED:20250528T112706Z
UID:69119-1748736000-1751327999@ufolep38.org
SUMMARY:La Rencontre de l'Autonomie
DESCRIPTION:Programme
URL:https://ufolep38.org/events/la-rencontre-de-lautonomie/
LOCATION:Sud Grésivaudan
ATTACH;FMTTYPE=application/pdf:https://ufolep38.org/wp-content/uploads/2025/05/ufolep-38-Affiche_RENCONTRES-AUTONOMIE-189.pdf
END:VEVENT
BEGIN:VEVENT
DTSTART;VALUE=DATE:20250607
DTEND;VALUE=DATE:20250609
DTSTAMP:20260424T092929
CREATED:20241211T092845Z
LAST-MODIFIED:20250521T135445Z
UID:65117-1749254400-1749427199@ufolep38.org
SUMMARY:Gymnastique Artistique - Finale nationale
DESCRIPTION:Circulaire
URL:https://ufolep38.org/events/gymnastique-artistique-finale-nationale/
LOCATION:Bordeaux (33)
CATEGORIES:Gymnastique
ATTACH;FMTTYPE=image/jpeg:https://ufolep38.org/wp-content/uploads/2024/12/ufolep-38-affiche-finales-nationales-gymnastique-artistique-158-scaled.jpg
END:VEVENT
BEGIN:VEVENT
DTSTART;VALUE=DATE:20250607
DTEND;VALUE=DATE:20250609
DTSTAMP:20260424T092929
CREATED:20250226T100721Z
LAST-MODIFIED:20250721T065434Z
UID:66340-1749254400-1749427199@ufolep38.org
SUMMARY:Handball - Compétition Nationale
DESCRIPTION:Circulaire\nInscriptions tournoi national\nInscriptions soirée conviviale\nRésultats : cliquez sur le lien puis choisissez 2ème Tournoi National de Handball – Adulte Mixte dans le menu déroulant
URL:https://ufolep38.org/events/handball-competition-national/
LOCATION:Cabestany (66)
CATEGORIES:Handball
ATTACH;FMTTYPE=application/pdf:https://ufolep38.org/wp-content/uploads/2025/02/ufolep-38-Affiche-192.pdf
END:VEVENT
BEGIN:VEVENT
DTSTART;VALUE=DATE:20250607
DTEND;VALUE=DATE:20250609
DTSTAMP:20260424T092929
CREATED:20250416T144626Z
LAST-MODIFIED:20250416T144626Z
UID:68349-1749254400-1749427199@ufolep38.org
SUMMARY:Volley-Ball - Finales Nationales
DESCRIPTION:Circulaire Finales Nationales Volley-ball UFOLEP
URL:https://ufolep38.org/events/volley-ball-finales-nationales-2/
LOCATION:Saint-Doulchard (18)\, France
CATEGORIES:Volley-ball
ATTACH;FMTTYPE=image/png:https://ufolep38.org/wp-content/uploads/2025/04/ufolep-38-Finales-Nationales-Volley-ball-UFOLEP-249.png
END:VEVENT
BEGIN:VEVENT
DTSTART;TZID=Europe/Paris:20250607T080000
DTEND;TZID=Europe/Paris:20250608T120000
DTSTAMP:20260424T092929
CREATED:20250509T135858Z
LAST-MODIFIED:20250509T135944Z
UID:68661-1749283200-1749384000@ufolep38.org
SUMMARY:Natation - National
DESCRIPTION:Circulaire
URL:https://ufolep38.org/events/national-ufolep-de-natation/
LOCATION:Saint Flour (15)
CATEGORIES:Natation
ATTACH;FMTTYPE=image/png:https://ufolep38.org/wp-content/uploads/2025/05/ufolep-38-Capture-decran-2025-05-09-155528-11.png
END:VEVENT
BEGIN:VEVENT
DTSTART;VALUE=DATE:20250608
DTEND;VALUE=DATE:20250609
DTSTAMP:20260424T092929
CREATED:20250304T134524Z
LAST-MODIFIED:20250522T081712Z
UID:66637-1749340800-1749427199@ufolep38.org
SUMMARY:Cyclisme - Grimpée du col de la Morte
DESCRIPTION:
URL:https://ufolep38.org/events/cyclisme-grimpee-du-col-de-la-morte-2/
CATEGORIES:Cyclisme
ATTACH;FMTTYPE=image/jpeg:https://ufolep38.org/wp-content/uploads/2025/03/ufolep-38-Affiche-Grimpee-col-de-la-morte-163.jpeg
END:VEVENT
BEGIN:VEVENT
DTSTART;VALUE=DATE:20250608
DTEND;VALUE=DATE:20250609
DTSTAMP:20260424T092929
CREATED:20250410T144232Z
LAST-MODIFIED:20250428T081503Z
UID:68071-1749340800-1749427199@ufolep38.org
SUMMARY:Tir à l'Arc - Championnat National
DESCRIPTION:Circulaire Championnat National Tir à l’arc
URL:https://ufolep38.org/events/tir-a-larc-championnat-national-2/
LOCATION:Smarves (86)\, France
ATTACH;FMTTYPE=image/jpeg:https://ufolep38.org/wp-content/uploads/2025/04/ufolep-38-content-300-scaled.jpeg
END:VEVENT
BEGIN:VEVENT
DTSTART;VALUE=DATE:20250608
DTEND;VALUE=DATE:20250609
DTSTAMP:20260424T092929
CREATED:20250521T081340Z
LAST-MODIFIED:20250521T081340Z
UID:68781-1749340800-1749427199@ufolep38.org
SUMMARY:Moto Trial - National UFOLEP
DESCRIPTION:Circulaire
URL:https://ufolep38.org/events/moto-trial-national-ufolep/
LOCATION:Corbères (66)
ATTACH;FMTTYPE=image/jpeg:https://ufolep38.org/wp-content/uploads/2025/05/ufolep-38-Affiche-National-Moto-Trial-100.jpg
END:VEVENT
BEGIN:VEVENT
DTSTART;VALUE=DATE:20250608
DTEND;VALUE=DATE:20250609
DTSTAMP:20260424T092929
CREATED:20250530T130436Z
LAST-MODIFIED:20250607T160828Z
UID:69135-1749340800-1749427199@ufolep38.org
SUMMARY:Cyclisme - Grand Prix Cycliste Seyssinet-Pariset
DESCRIPTION:ANNULATION\nPlus d’informations\nInscriptions
URL:https://ufolep38.org/events/cyclisme-grand-prix-cycliste-seyssinet-pariset/
LOCATION:Seyssinet-Pariset (38)
CATEGORIES:Cyclisme
ATTACH;FMTTYPE=image/png:https://ufolep38.org/wp-content/uploads/2025/05/ufolep-38-GRAND-PRIX-DE-LALLEY-10eme-edition-22.png
END:VEVENT
BEGIN:VEVENT
DTSTART;VALUE=DATE:20250611
DTEND;VALUE=DATE:20250616
DTSTAMP:20260424T092929
CREATED:20250428T143059Z
LAST-MODIFIED:20250428T144119Z
UID:68543-1749600000-1750031999@ufolep38.org
SUMMARY:Vol de pente - Rassemblement National
DESCRIPTION:Circulaire\nFiche d’inscription
URL:https://ufolep38.org/events/vol-de-pente-rassemblement-national/
LOCATION:Murat-le-Quaire (63)\, France
ATTACH;FMTTYPE=image/png:https://ufolep38.org/wp-content/uploads/2025/04/ufolep-38-Capture-decran-2025-04-28-a-16.27.48-318.png
END:VEVENT
BEGIN:VEVENT
DTSTART;VALUE=DATE:20250615
DTEND;VALUE=DATE:20250616
DTSTAMP:20260424T092929
CREATED:20241205T132853Z
LAST-MODIFIED:20241211T083840Z
UID:65046-1749945600-1750031999@ufolep38.org
SUMMARY:Gymnastique Artistique - 3ème Parcours
DESCRIPTION:
URL:https://ufolep38.org/events/gymnastique-artistique-3eme-parcours-2/
LOCATION:Saint-Laurent-du-Pont (38)
CATEGORIES:Gymnastique
ATTACH;FMTTYPE=image/png:https://ufolep38.org/wp-content/uploads/2024/12/ufolep-38-3eme-PARCOURS-118.png
END:VEVENT
BEGIN:VEVENT
DTSTART;VALUE=DATE:20250615
DTEND;VALUE=DATE:20250616
DTSTAMP:20260424T092929
CREATED:20250304T134748Z
LAST-MODIFIED:20250701T115959Z
UID:66641-1749945600-1750031999@ufolep38.org
SUMMARY:Cyclisme - Régional UFOLEP - Notre Dame de l'Osier
DESCRIPTION:Circulaire\nLien d’inscription\nRèglement\nRésultats
URL:https://ufolep38.org/events/cyclisme-regional-ufolep-notre-dame-de-losier/
LOCATION:Notre-Dame-de-l’Osier (38)\, France
CATEGORIES:Cyclisme
ATTACH;FMTTYPE=image/png:https://ufolep38.org/wp-content/uploads/2025/03/ufolep-38-Affiche-regional-de-cyclisme-158.png
END:VEVENT
BEGIN:VEVENT
DTSTART;VALUE=DATE:20250615
DTEND;VALUE=DATE:20250616
DTSTAMP:20260424T092929
CREATED:20250429T061451Z
LAST-MODIFIED:20250429T061451Z
UID:68555-1749945600-1750031999@ufolep38.org
SUMMARY:Volley-Ball - Tournoi Green
DESCRIPTION:
URL:https://ufolep38.org/events/volley-ball-tournoi-green/
LOCATION:Saint-Jean-de-Soudain (38)\, France
CATEGORIES:Volley-ball
ATTACH;FMTTYPE=image/jpeg:https://ufolep38.org/wp-content/uploads/2025/04/ufolep-38-Affiche-Tournoi-06-2025-343.jpg
END:VEVENT
BEGIN:VEVENT
DTSTART;VALUE=DATE:20250615
DTEND;VALUE=DATE:20250616
DTSTAMP:20260424T092930
CREATED:20250604T132721Z
LAST-MODIFIED:20250604T132814Z
UID:69168-1749945600-1750031999@ufolep38.org
SUMMARY:Volley-Ball - Tournoi Loisir
DESCRIPTION:Inscriptions
URL:https://ufolep38.org/events/volleyball-tournoi-loisir/
LOCATION:Cessieu (38)
CATEGORIES:Volley-ball
ATTACH;FMTTYPE=image/jpeg:https://ufolep38.org/wp-content/uploads/2025/06/ufolep-38-Affiche-TOurnoi-2025-8.jpg
END:VEVENT
BEGIN:VEVENT
DTSTART;VALUE=DATE:20250617
DTEND;VALUE=DATE:20250618
DTSTAMP:20260424T092930
CREATED:20250415T073718Z
LAST-MODIFIED:20250415T073718Z
UID:68222-1750118400-1750204799@ufolep38.org
SUMMARY:AG du Comité UFOLEP 38
DESCRIPTION:
URL:https://ufolep38.org/events/ag-du-comite-ufolep-38/
LOCATION:Tullins (38)\, France
ATTACH;FMTTYPE=image/jpeg:https://ufolep38.org/wp-content/uploads/2025/04/ufolep-38-AG-UFOLEP-38-201.jpg
END:VEVENT
BEGIN:VEVENT
DTSTART;VALUE=DATE:20250618
DTEND;VALUE=DATE:20250619
DTSTAMP:20260424T092930
CREATED:20250527T062052Z
LAST-MODIFIED:20250527T062052Z
UID:69098-1750204800-1750291199@ufolep38.org
SUMMARY:Multisports - Viens avec ton copain
DESCRIPTION:
URL:https://ufolep38.org/events/multisports-viens-avec-ton-copain/
LOCATION:Flachères (38)\, France
CATEGORIES:Multisports
ATTACH;FMTTYPE=image/png:https://ufolep38.org/wp-content/uploads/2025/05/ufolep-38-Flyer-ASAP-Viens-avec-ton-copain-178.png
END:VEVENT
BEGIN:VEVENT
DTSTART;VALUE=DATE:20250621
DTEND;VALUE=DATE:20250622
DTSTAMP:20260424T092930
CREATED:20250304T134859Z
LAST-MODIFIED:20250701T120242Z
UID:66643-1750464000-1750550399@ufolep38.org
SUMMARY:Cyclisme - Chrono du Vercors
DESCRIPTION:Résultats INDIVIDUELS\nRésultats DUOS
URL:https://ufolep38.org/events/cyclisme-chrono-du-vercors-2/
CATEGORIES:Cyclisme
ATTACH;FMTTYPE=image/png:https://ufolep38.org/wp-content/uploads/2025/03/ufolep-38-affiche-chrono-du-vercors-163.png
END:VEVENT
BEGIN:VEVENT
DTSTART;VALUE=DATE:20250621
DTEND;VALUE=DATE:20250623
DTSTAMP:20260424T092930
CREATED:20241211T093548Z
LAST-MODIFIED:20250522T062823Z
UID:65121-1750464000-1750636799@ufolep38.org
SUMMARY:Gymnastique Artistique - Trophées de l'été
DESCRIPTION:Formulaire d’inscription
URL:https://ufolep38.org/events/gymnastique-artistique-trophees-de-lete/
LOCATION:L’Isle-d’Abeau (38)
CATEGORIES:Gymnastique
ATTACH;FMTTYPE=image/png:https://ufolep38.org/wp-content/uploads/2024/12/ufolep-38-Affiche-Fete-de-la-musique-Danse-Illustratif-Colore-163.png
END:VEVENT
BEGIN:VEVENT
DTSTART;VALUE=DATE:20250622
DTEND;VALUE=DATE:20250623
DTSTAMP:20260424T092930
CREATED:20250304T134955Z
LAST-MODIFIED:20250613T061822Z
UID:66645-1750550400-1750636799@ufolep38.org
SUMMARY:Cyclisme - Grand Prix d'Andrevières / REPORTÉE : DATE EN ATTENTE
DESCRIPTION:
URL:https://ufolep38.org/events/cyclisme-grand-prix-dandrevieres/
CATEGORIES:Cyclisme
END:VEVENT
BEGIN:VEVENT
DTSTART;VALUE=DATE:20250625
DTEND;VALUE=DATE:20250626
DTSTAMP:20260424T092930
CREATED:20250527T062148Z
LAST-MODIFIED:20250527T062148Z
UID:69101-1750809600-1750895999@ufolep38.org
SUMMARY:Multisports - Viens avec ton copain
DESCRIPTION:
URL:https://ufolep38.org/events/multisports-viens-avec-ton-copain-2/
LOCATION:Flachères (38)\, France
CATEGORIES:Multisports
ATTACH;FMTTYPE=image/png:https://ufolep38.org/wp-content/uploads/2025/05/ufolep-38-Flyer-ASAP-Viens-avec-ton-copain-178.png
END:VEVENT
BEGIN:VEVENT
DTSTART;VALUE=DATE:20250627
DTEND;VALUE=DATE:20250630
DTSTAMP:20260424T092930
CREATED:20250520T070407Z
LAST-MODIFIED:20250520T071056Z
UID:68747-1750982400-1751241599@ufolep38.org
SUMMARY:Pétanque - Finales Nationales Boules Lyonnaises
DESCRIPTION:Circulaire
URL:https://ufolep38.org/events/petanque-finales-nationales-boules-lyonnaises/
LOCATION:Avion (62)
ATTACH;FMTTYPE=image/jpeg:https://ufolep38.org/wp-content/uploads/2025/05/ufolep-38-content-3-80.jpeg
END:VEVENT
BEGIN:VEVENT
DTSTART;TZID=Europe/Paris:20250628T140000
DTEND;TZID=Europe/Paris:20250628T180000
DTSTAMP:20260424T092930
CREATED:20250620T142006Z
LAST-MODIFIED:20250620T142006Z
UID:69326-1751119200-1751133600@ufolep38.org
SUMMARY:Aïkido - Journée Portes Ouvertes
DESCRIPTION:
URL:https://ufolep38.org/events/aikido-journee-portes-ouvertes/
LOCATION:Vif (38)
CATEGORIES:Aïkido
ATTACH;FMTTYPE=image/png:https://ufolep38.org/wp-content/uploads/2025/06/ufolep-38-affiche-JPO-28-image-74.png
END:VEVENT
BEGIN:VEVENT
DTSTART;VALUE=DATE:20250629
DTEND;VALUE=DATE:20250630
DTSTAMP:20260424T092930
CREATED:20250304T135045Z
LAST-MODIFIED:20250701T115634Z
UID:66647-1751155200-1751241599@ufolep38.org
SUMMARY:Cyclisme - Grand Prix de Blandin
DESCRIPTION:Plan du circuit\nRèglement\nInscriptions\nRésultats
URL:https://ufolep38.org/events/cyclisme-grand-prix-de-blandin/
CATEGORIES:Cyclisme
ATTACH;FMTTYPE=application/pdf:https://ufolep38.org/wp-content/uploads/2025/03/ufolep-38-Affiche-UFOLEP-VDEF-Blandin-Chabons-1-22.pdf
END:VEVENT
END:VCALENDAR