BEGIN:VCALENDAR
VERSION:2.0
PRODID:-//UFOLEP 38 - ECPv6.15.20//NONSGML v1.0//EN
CALSCALE:GREGORIAN
METHOD:PUBLISH
X-ORIGINAL-URL:https://ufolep38.org
X-WR-CALDESC:Évènements pour UFOLEP 38
REFRESH-INTERVAL;VALUE=DURATION:PT1H
X-Robots-Tag:noindex
X-PUBLISHED-TTL:PT1H
BEGIN:VTIMEZONE
TZID:Europe/Paris
BEGIN:DAYLIGHT
TZOFFSETFROM:+0100
TZOFFSETTO:+0200
TZNAME:CEST
DTSTART:20240331T010000
END:DAYLIGHT
BEGIN:STANDARD
TZOFFSETFROM:+0200
TZOFFSETTO:+0100
TZNAME:CET
DTSTART:20241027T010000
END:STANDARD
BEGIN:DAYLIGHT
TZOFFSETFROM:+0100
TZOFFSETTO:+0200
TZNAME:CEST
DTSTART:20250330T010000
END:DAYLIGHT
BEGIN:STANDARD
TZOFFSETFROM:+0200
TZOFFSETTO:+0100
TZNAME:CET
DTSTART:20251026T010000
END:STANDARD
BEGIN:DAYLIGHT
TZOFFSETFROM:+0100
TZOFFSETTO:+0200
TZNAME:CEST
DTSTART:20260329T010000
END:DAYLIGHT
BEGIN:STANDARD
TZOFFSETFROM:+0200
TZOFFSETTO:+0100
TZNAME:CET
DTSTART:20261025T010000
END:STANDARD
END:VTIMEZONE
BEGIN:VEVENT
DTSTART;VALUE=DATE:20250704
DTEND;VALUE=DATE:20250707
DTSTAMP:20260424T052026
CREATED:20250304T135225Z
LAST-MODIFIED:20250522T054002Z
UID:66650-1751587200-1751846399@ufolep38.org
SUMMARY:Cyclisme - National Cyclosport
DESCRIPTION:Circulaire\nLien d’inscription
URL:https://ufolep38.org/events/cyclisme-national-cyclosport/
LOCATION:Heugas (40)
CATEGORIES:Cyclisme
ATTACH;FMTTYPE=image/jpeg:https://ufolep38.org/wp-content/uploads/2025/03/ufolep-38-affiche-national-cyclosport-100.jpg
END:VEVENT
BEGIN:VEVENT
DTSTART;VALUE=DATE:20250704
DTEND;VALUE=DATE:20250707
DTSTAMP:20260424T052026
CREATED:20250401T063218Z
LAST-MODIFIED:20250521T080309Z
UID:67730-1751587200-1751846399@ufolep38.org
SUMMARY:Pétanque - Championnat National de Pétanque 2025
DESCRIPTION:Circulaire
URL:https://ufolep38.org/events/petanque-championnat-national-de-petanque-2025/
LOCATION:Soissons (02)
ATTACH;FMTTYPE=application/pdf:https://ufolep38.org/wp-content/uploads/2025/04/ufolep-38-Affiche-National-Petanque-2025-100.pdf
END:VEVENT
BEGIN:VEVENT
DTSTART;VALUE=DATE:20250705
DTEND;VALUE=DATE:20250707
DTSTAMP:20260424T052026
CREATED:20250616T062605Z
LAST-MODIFIED:20250721T071613Z
UID:69215-1751673600-1751846399@ufolep38.org
SUMMARY:KartCross - Course
DESCRIPTION:Déroulement du week-end : \n\nSamedi 5 juillet à 14h00\n\nDébut du meeting avec les essais chronométrés\nSuivis de la 1ère manche\n\n\n\n\nDimanche matin :\n\n2ème et 3ème manche\n\n\n\n\nDimanche après-midi :\n\n4ème manche\nSuivie de la finale\n\n\n\nInscriptions : \n\nPour les pilotes TSE :\n\nInscriptions comme d’habitude par SMS\n\n\nPour les pilotes hors TSE (accueillis avec plaisir) :\n\nInscriptions sur le lien suivant : https://inscriptions.ufolep.org/c/club/82698/\n\n\n\nRésultats
URL:https://ufolep38.org/events/kartcross-course/
LOCATION:Champier (38)\, France
CATEGORIES:Kart-cross
ATTACH;FMTTYPE=image/jpeg:https://ufolep38.org/wp-content/uploads/2025/06/ufolep-38-KARTCROSS-Champier-2025-2-27.jpg
END:VEVENT
END:VCALENDAR