BEGIN:VCALENDAR
VERSION:2.0
PRODID:-//UFOLEP 38 - ECPv6.15.20//NONSGML v1.0//EN
CALSCALE:GREGORIAN
METHOD:PUBLISH
X-ORIGINAL-URL:https://ufolep38.org
X-WR-CALDESC:Évènements pour UFOLEP 38
REFRESH-INTERVAL;VALUE=DURATION:PT1H
X-Robots-Tag:noindex
X-PUBLISHED-TTL:PT1H
BEGIN:VTIMEZONE
TZID:Europe/Paris
BEGIN:DAYLIGHT
TZOFFSETFROM:+0100
TZOFFSETTO:+0200
TZNAME:CEST
DTSTART:20250330T010000
END:DAYLIGHT
BEGIN:STANDARD
TZOFFSETFROM:+0200
TZOFFSETTO:+0100
TZNAME:CET
DTSTART:20251026T010000
END:STANDARD
BEGIN:DAYLIGHT
TZOFFSETFROM:+0100
TZOFFSETTO:+0200
TZNAME:CEST
DTSTART:20260329T010000
END:DAYLIGHT
BEGIN:STANDARD
TZOFFSETFROM:+0200
TZOFFSETTO:+0100
TZNAME:CET
DTSTART:20261025T010000
END:STANDARD
BEGIN:DAYLIGHT
TZOFFSETFROM:+0100
TZOFFSETTO:+0200
TZNAME:CEST
DTSTART:20270328T010000
END:DAYLIGHT
BEGIN:STANDARD
TZOFFSETFROM:+0200
TZOFFSETTO:+0100
TZNAME:CET
DTSTART:20271031T010000
END:STANDARD
END:VTIMEZONE
BEGIN:VEVENT
DTSTART;VALUE=DATE:20260110
DTEND;VALUE=DATE:20260111
DTSTAMP:20260423T193559
CREATED:20251202T065502Z
LAST-MODIFIED:20251202T070138Z
UID:73192-1768003200-1768089599@ufolep38.org
SUMMARY:GRIMPE D'ARBRE - Stage d'hiver 1/2 journée
DESCRIPTION:
URL:https://ufolep38.org/events/grimpe-darbre-stage-dhiver-1-2-journee-2/
LOCATION:Sassenage (38)
ATTACH;FMTTYPE=image/png:https://ufolep38.org/wp-content/uploads/2025/12/ufolep-38-2026.01.10-Stage-dhiver-12-journee-10.png
END:VEVENT
BEGIN:VEVENT
DTSTART;VALUE=DATE:20260117
DTEND;VALUE=DATE:20260119
DTSTAMP:20260423T193559
CREATED:20251028T080649Z
LAST-MODIFIED:20251202T071116Z
UID:72380-1768608000-1768780799@ufolep38.org
SUMMARY:GYMNASTIQUE ARTISTIQUE - Départemental 1
DESCRIPTION:
URL:https://ufolep38.org/events/gymnastique-artistique-departemental-1/
LOCATION:L’Isle d’Abeau (38)
CATEGORIES:Gymnastique
ATTACH;FMTTYPE=image/png:https://ufolep38.org/wp-content/uploads/2025/10/ufolep-38-2-22.png
END:VEVENT
BEGIN:VEVENT
DTSTART;VALUE=DATE:20260118
DTEND;VALUE=DATE:20260119
DTSTAMP:20260423T193559
CREATED:20251021T121741Z
LAST-MODIFIED:20251114T074707Z
UID:72339-1768694400-1768780799@ufolep38.org
SUMMARY:NATATION - 3ème Journée
DESCRIPTION:
URL:https://ufolep38.org/events/natation-3eme-journee-2/
LOCATION:Sevenne (38)
CATEGORIES:Natation
ATTACH;FMTTYPE=image/png:https://ufolep38.org/wp-content/uploads/2025/10/ufolep-38-Sevenne-3eme-journee-61.png
END:VEVENT
BEGIN:VEVENT
DTSTART;VALUE=DATE:20260124
DTEND;VALUE=DATE:20260125
DTSTAMP:20260423T193559
CREATED:20251028T080752Z
LAST-MODIFIED:20260113T090212Z
UID:72383-1769212800-1769299199@ufolep38.org
SUMMARY:GYMNASTIQUE ARTISTIQUE - Départemental GAM
DESCRIPTION:
URL:https://ufolep38.org/events/gymnastique-artistique-departemental-gam-2/
LOCATION:Loriol (26)
CATEGORIES:Gymnastique
ATTACH;FMTTYPE=application/pdf:https://ufolep38.org/wp-content/uploads/2025/10/ufolep-38-Competition-Inter-departementale-95.pdf
END:VEVENT
BEGIN:VEVENT
DTSTART;VALUE=DATE:20260124
DTEND;VALUE=DATE:20260126
DTSTAMP:20260423T193559
CREATED:20251212T075440Z
LAST-MODIFIED:20251212T075440Z
UID:73356-1769212800-1769385599@ufolep38.org
SUMMARY:GRS - Championnat National Individuels 2026
DESCRIPTION:
URL:https://ufolep38.org/events/grs-championnat-national-individuels-2026/
LOCATION:Gennevilliers (92)
CATEGORIES:GRS
ATTACH;FMTTYPE=image/jpeg:https://ufolep38.org/wp-content/uploads/2025/12/ufolep-38-content-76-scaled.jpeg
END:VEVENT
BEGIN:VEVENT
DTSTART;VALUE=DATE:20260125
DTEND;VALUE=DATE:20260126
DTSTAMP:20260423T193559
CREATED:20251028T080838Z
LAST-MODIFIED:20251202T072136Z
UID:72386-1769299200-1769385599@ufolep38.org
SUMMARY:GYMNASTIQUE ARTISTIQUE - 1er Parcours
DESCRIPTION:
URL:https://ufolep38.org/events/gymnastique-artistique-1er-parcours-3/
LOCATION:Tullins (38)\, France
CATEGORIES:Gymnastique
ATTACH;FMTTYPE=image/png:https://ufolep38.org/wp-content/uploads/2025/10/ufolep-38-3-22-1.png
END:VEVENT
BEGIN:VEVENT
DTSTART;VALUE=DATE:20260125
DTEND;VALUE=DATE:20260126
DTSTAMP:20260423T193559
CREATED:20260126T105515Z
LAST-MODIFIED:20260126T105515Z
UID:74050-1769299200-1769385599@ufolep38.org
SUMMARY:TRAMPOLINE - Compétition Départementale
DESCRIPTION:
URL:https://ufolep38.org/events/trampoline-competition-departementale/
LOCATION:Tullins (38)\, France
CATEGORIES:Trampoline
END:VEVENT
BEGIN:VEVENT
DTSTART;VALUE=DATE:20260131
DTEND;VALUE=DATE:20260202
DTSTAMP:20260423T193559
CREATED:20251028T080932Z
LAST-MODIFIED:20260120T090902Z
UID:72388-1769817600-1769990399@ufolep38.org
SUMMARY:GYMNASTIQUE ARTISTIQUE - Départemental 2
DESCRIPTION:
URL:https://ufolep38.org/events/gymnastique-artistique-departemental-2/
LOCATION:Voreppe (38)\, 38340
CATEGORIES:Gymnastique
ATTACH;FMTTYPE=application/pdf:https://ufolep38.org/wp-content/uploads/2025/10/ufolep-38-GYM-2025-2026-Flyer-125.pdf
END:VEVENT
BEGIN:VEVENT
DTSTART;TZID=Europe/Paris:20260131T090000
DTEND;TZID=Europe/Paris:20260131T170000
DTSTAMP:20260423T193559
CREATED:20260105T134944Z
LAST-MODIFIED:20260105T134944Z
UID:73579-1769850000-1769878800@ufolep38.org
SUMMARY:SECOURISME - Formation PSC
DESCRIPTION:Inscriptions
URL:https://ufolep38.org/events/secourisme-formation-psc-7/
LOCATION:Tullins (38)\, France
ATTACH;FMTTYPE=image/png:https://ufolep38.org/wp-content/uploads/2025/08/ufolep-38-Capture-decran-2025-08-21-113654-14.png
END:VEVENT
END:VCALENDAR