BEGIN:VCALENDAR
VERSION:2.0
PRODID:-//UFOLEP 38 - ECPv6.15.20//NONSGML v1.0//EN
CALSCALE:GREGORIAN
METHOD:PUBLISH
X-ORIGINAL-URL:https://ufolep38.org
X-WR-CALDESC:Évènements pour UFOLEP 38
REFRESH-INTERVAL;VALUE=DURATION:PT1H
X-Robots-Tag:noindex
X-PUBLISHED-TTL:PT1H
BEGIN:VTIMEZONE
TZID:Europe/Paris
BEGIN:DAYLIGHT
TZOFFSETFROM:+0100
TZOFFSETTO:+0200
TZNAME:CEST
DTSTART:20250330T010000
END:DAYLIGHT
BEGIN:STANDARD
TZOFFSETFROM:+0200
TZOFFSETTO:+0100
TZNAME:CET
DTSTART:20251026T010000
END:STANDARD
BEGIN:DAYLIGHT
TZOFFSETFROM:+0100
TZOFFSETTO:+0200
TZNAME:CEST
DTSTART:20260329T010000
END:DAYLIGHT
BEGIN:STANDARD
TZOFFSETFROM:+0200
TZOFFSETTO:+0100
TZNAME:CET
DTSTART:20261025T010000
END:STANDARD
BEGIN:DAYLIGHT
TZOFFSETFROM:+0100
TZOFFSETTO:+0200
TZNAME:CEST
DTSTART:20270328T010000
END:DAYLIGHT
BEGIN:STANDARD
TZOFFSETFROM:+0200
TZOFFSETTO:+0100
TZNAME:CET
DTSTART:20271031T010000
END:STANDARD
END:VTIMEZONE
BEGIN:VEVENT
DTSTART;VALUE=DATE:20260131
DTEND;VALUE=DATE:20260202
DTSTAMP:20260423T190302
CREATED:20251028T080932Z
LAST-MODIFIED:20260120T090902Z
UID:72388-1769817600-1769990399@ufolep38.org
SUMMARY:GYMNASTIQUE ARTISTIQUE - Départemental 2
DESCRIPTION:
URL:https://ufolep38.org/events/gymnastique-artistique-departemental-2/
LOCATION:Voreppe (38)\, 38340
CATEGORIES:Gymnastique
ATTACH;FMTTYPE=application/pdf:https://ufolep38.org/wp-content/uploads/2025/10/ufolep-38-GYM-2025-2026-Flyer-125.pdf
END:VEVENT
BEGIN:VEVENT
DTSTART;VALUE=DATE:20260201
DTEND;VALUE=DATE:20260202
DTSTAMP:20260423T190302
CREATED:20251021T121858Z
LAST-MODIFIED:20251104T122925Z
UID:72341-1769904000-1769990399@ufolep38.org
SUMMARY:NATATION - 4ème Journée
DESCRIPTION:
URL:https://ufolep38.org/events/natation-4eme-journee-2/
LOCATION:Villefontaine (38)\, France
CATEGORIES:Natation
ATTACH;FMTTYPE=image/png:https://ufolep38.org/wp-content/uploads/2025/10/ufolep-38-Villefontaine-4eme-journee-21.png
END:VEVENT
BEGIN:VEVENT
DTSTART;VALUE=DATE:20260207
DTEND;VALUE=DATE:20260209
DTSTAMP:20260423T190302
CREATED:20260119T102823Z
LAST-MODIFIED:20260206T123622Z
UID:73824-1770422400-1770595199@ufolep38.org
SUMMARY:CYCLISME - Championnat National Cyclo-Cross
DESCRIPTION:
URL:https://ufolep38.org/events/cyclisme-championnat-national-cyclo-cross/
LOCATION:Meung-sur-Loire (45)
CATEGORIES:Cyclisme
ATTACH;FMTTYPE=image/jpeg:https://ufolep38.org/wp-content/uploads/2026/01/ufolep-38-600368895_1508882337522370_6709525651432695251_n-16.jpg
END:VEVENT
BEGIN:VEVENT
DTSTART;TZID=Europe/Paris:20260207T140000
DTEND;TZID=Europe/Paris:20260207T190000
DTSTAMP:20260423T190302
CREATED:20251216T080547Z
LAST-MODIFIED:20251216T081258Z
UID:73365-1770472800-1770490800@ufolep38.org
SUMMARY:TAEKWONDO - AG et remise de trophées
DESCRIPTION:
URL:https://ufolep38.org/events/taekwondo-ag-et-remise-de-trophees/
LOCATION:LGL
END:VEVENT
BEGIN:VEVENT
DTSTART;TZID=Europe/Paris:20260211T090000
DTEND;TZID=Europe/Paris:20260211T170000
DTSTAMP:20260423T190302
CREATED:20260105T135104Z
LAST-MODIFIED:20260105T135338Z
UID:73581-1770800400-1770829200@ufolep38.org
SUMMARY:SECOURISME - Formation PSC
DESCRIPTION:Inscriptions
URL:https://ufolep38.org/events/secourisme-formation-psc-8/
LOCATION:Tullins (38)\, France
ATTACH;FMTTYPE=image/png:https://ufolep38.org/wp-content/uploads/2025/08/ufolep-38-Capture-decran-2025-08-21-113654-14.png
END:VEVENT
BEGIN:VEVENT
DTSTART;VALUE=DATE:20260228
DTEND;VALUE=DATE:20260301
DTSTAMP:20260423T190302
CREATED:20251202T070017Z
LAST-MODIFIED:20251202T070017Z
UID:73196-1772236800-1772323199@ufolep38.org
SUMMARY:GRIMPE D'ARBRE - Stage d'hiver 1/2 journée
DESCRIPTION:
URL:https://ufolep38.org/events/grimpe-darbre-stage-dhiver-1-2-journee-3/
LOCATION:Meylan (38)
ATTACH;FMTTYPE=image/png:https://ufolep38.org/wp-content/uploads/2025/12/ufolep-38-2026.02.28-Stage-dhiver-12-journee-14.png
END:VEVENT
BEGIN:VEVENT
DTSTART;VALUE=DATE:20260228
DTEND;VALUE=DATE:20260302
DTSTAMP:20260423T190302
CREATED:20251028T081043Z
LAST-MODIFIED:20260213T103338Z
UID:72390-1772236800-1772409599@ufolep38.org
SUMMARY:GYMNASTIQUE ARTISTIQUE - Région 1
DESCRIPTION:
URL:https://ufolep38.org/events/gymnastique-artistique-region-1-3/
LOCATION:Saint-Rambert-d’Albon (26)
CATEGORIES:Gymnastique
ATTACH;FMTTYPE=application/pdf:https://ufolep38.org/wp-content/uploads/2025/10/ufolep-38-Region-1-57.pdf
END:VEVENT
BEGIN:VEVENT
DTSTART;TZID=Europe/Paris:20260228T140000
DTEND;TZID=Europe/Paris:20260228T170000
DTSTAMP:20260423T190302
CREATED:20260226T101106Z
LAST-MODIFIED:20260226T101236Z
UID:74200-1772287200-1772298000@ufolep38.org
SUMMARY:TAEKWONDO ÉDUCATIF - Interclub
DESCRIPTION:
URL:https://ufolep38.org/events/taekwondo-educatif-interclub-de-taekwondo-educatif/
LOCATION:Sillans (38)
ATTACH;FMTTYPE=image/png:https://ufolep38.org/wp-content/uploads/2026/02/ufolep-38-2602BannerInterclub-89-scaled.png
END:VEVENT
END:VCALENDAR