BEGIN:VCALENDAR
VERSION:2.0
PRODID:-//UFOLEP 38 - ECPv6.15.20//NONSGML v1.0//EN
CALSCALE:GREGORIAN
METHOD:PUBLISH
X-ORIGINAL-URL:https://ufolep38.org
X-WR-CALDESC:Évènements pour UFOLEP 38
REFRESH-INTERVAL;VALUE=DURATION:PT1H
X-Robots-Tag:noindex
X-PUBLISHED-TTL:PT1H
BEGIN:VTIMEZONE
TZID:Europe/Paris
BEGIN:DAYLIGHT
TZOFFSETFROM:+0100
TZOFFSETTO:+0200
TZNAME:CEST
DTSTART:20250330T010000
END:DAYLIGHT
BEGIN:STANDARD
TZOFFSETFROM:+0200
TZOFFSETTO:+0100
TZNAME:CET
DTSTART:20251026T010000
END:STANDARD
BEGIN:DAYLIGHT
TZOFFSETFROM:+0100
TZOFFSETTO:+0200
TZNAME:CEST
DTSTART:20260329T010000
END:DAYLIGHT
BEGIN:STANDARD
TZOFFSETFROM:+0200
TZOFFSETTO:+0100
TZNAME:CET
DTSTART:20261025T010000
END:STANDARD
BEGIN:DAYLIGHT
TZOFFSETFROM:+0100
TZOFFSETTO:+0200
TZNAME:CEST
DTSTART:20270328T010000
END:DAYLIGHT
BEGIN:STANDARD
TZOFFSETFROM:+0200
TZOFFSETTO:+0100
TZNAME:CET
DTSTART:20271031T010000
END:STANDARD
END:VTIMEZONE
BEGIN:VEVENT
DTSTART;VALUE=DATE:20260501
DTEND;VALUE=DATE:20260502
DTSTAMP:20260423T192113
CREATED:20260413T141743Z
LAST-MODIFIED:20260413T141743Z
UID:74785-1777593600-1777679999@ufolep38.org
SUMMARY:CYCLISME - Grand Prix de Cras
DESCRIPTION:
URL:https://ufolep38.org/events/cyclisme-grand-prix-de-cras-4/
LOCATION:Cras (38)\, France
CATEGORIES:Cyclisme
ATTACH;FMTTYPE=image/jpeg:https://ufolep38.org/wp-content/uploads/2026/04/ufolep-38-AFFICHE_CRAS-2026-114.jpg
END:VEVENT
BEGIN:VEVENT
DTSTART;TZID=Europe/Paris:20260503T140000
DTEND;TZID=Europe/Paris:20260503T160000
DTSTAMP:20260423T192113
CREATED:20251216T081147Z
LAST-MODIFIED:20251216T081147Z
UID:73374-1777816800-1777824000@ufolep38.org
SUMMARY:TAEKWONDO - Après-midi parents-enfants
DESCRIPTION:
URL:https://ufolep38.org/events/taekwondo-apres-midi-parents-enfants/
LOCATION:LGL
END:VEVENT
BEGIN:VEVENT
DTSTART;VALUE=DATE:20260508
DTEND;VALUE=DATE:20260509
DTSTAMP:20260423T192113
CREATED:20260212T082201Z
LAST-MODIFIED:20260212T082244Z
UID:74127-1778198400-1778284799@ufolep38.org
SUMMARY:Course de la Résistance
DESCRIPTION:Inscriptions
URL:https://ufolep38.org/events/course-de-la-resistance/
LOCATION:La Cote Saint-André (38)
ATTACH;FMTTYPE=image/jpeg:https://ufolep38.org/wp-content/uploads/2026/02/ufolep-38-596803739_1287986446696764_8962489313063738896_n-36.jpg
END:VEVENT
BEGIN:VEVENT
DTSTART;VALUE=DATE:20260508
DTEND;VALUE=DATE:20260509
DTSTAMP:20260423T192113
CREATED:20260311T080542Z
LAST-MODIFIED:20260311T080542Z
UID:74336-1778198400-1778284799@ufolep38.org
SUMMARY:CYCLISME - Grimpée du Col de Porte
DESCRIPTION:
URL:https://ufolep38.org/events/cyclisme-grimpee-du-col-de-porte-3/
CATEGORIES:Cyclisme
END:VEVENT
BEGIN:VEVENT
DTSTART;VALUE=DATE:20260509
DTEND;VALUE=DATE:20260511
DTSTAMP:20260423T192113
CREATED:20260119T124052Z
LAST-MODIFIED:20260311T145356Z
UID:73849-1778284800-1778457599@ufolep38.org
SUMMARY:GYMNASTIQUE ARTISTIQUE - Demi-finale Groupe 2 (mixte) de Gymnastique
DESCRIPTION:
URL:https://ufolep38.org/events/gymnastique-artistique-demi-finale-groupe-2-mixte-de-gymnastique/
LOCATION:Boën et St Just St Rambert (42)
CATEGORIES:Gymnastique
ATTACH;FMTTYPE=image/jpeg:https://ufolep38.org/wp-content/uploads/2026/01/ufolep-38-GRS-Finales-Jeunes-Groupe-2-63.jpg
END:VEVENT
BEGIN:VEVENT
DTSTART;VALUE=DATE:20260510
DTEND;VALUE=DATE:20260511
DTSTAMP:20260423T192113
CREATED:20260311T081301Z
LAST-MODIFIED:20260311T081301Z
UID:74338-1778371200-1778457599@ufolep38.org
SUMMARY:CYCLISME - Départemental UFOLEP
DESCRIPTION:
URL:https://ufolep38.org/events/cyclisme-departemental-ufolep/
LOCATION:Autrans (38)\, France
CATEGORIES:Cyclisme
END:VEVENT
BEGIN:VEVENT
DTSTART;VALUE=DATE:20260515
DTEND;VALUE=DATE:20260517
DTSTAMP:20260423T192113
CREATED:20251003T130236Z
LAST-MODIFIED:20251028T082542Z
UID:71791-1778803200-1778975999@ufolep38.org
SUMMARY:VOLLEY - Coupes Nationales Jeunes UFOLEP
DESCRIPTION:Circulaire
URL:https://ufolep38.org/events/volley-coupes-nationales-jeunes-ufolep/
LOCATION:Templeuve (59)
CATEGORIES:Volley-ball
END:VEVENT
BEGIN:VEVENT
DTSTART;VALUE=DATE:20260515
DTEND;VALUE=DATE:20260517
DTSTAMP:20260423T192113
CREATED:20260119T124329Z
LAST-MODIFIED:20260311T104525Z
UID:73852-1778803200-1778975999@ufolep38.org
SUMMARY:CYCLISME - National VTT
DESCRIPTION:
URL:https://ufolep38.org/events/cyclisme-championnat-de-vtt/
LOCATION:Houmbourg-Haut (57)
CATEGORIES:Cyclisme
ATTACH;FMTTYPE=image/jpeg:https://ufolep38.org/wp-content/uploads/2026/01/ufolep-38-615029651_1331397675684733_489489822436419715_n-58.jpg
END:VEVENT
BEGIN:VEVENT
DTSTART;VALUE=DATE:20260515
DTEND;VALUE=DATE:20260517
DTSTAMP:20260423T192113
CREATED:20260121T120958Z
LAST-MODIFIED:20260121T120958Z
UID:74034-1778803200-1778975999@ufolep38.org
SUMMARY:MARCHE NORDIQUE - Rencontre Nationale
DESCRIPTION:
URL:https://ufolep38.org/events/marche-nordique-rencontre-nationale-4/
LOCATION:Nord-Pas-de-Calais (62)
CATEGORIES:Marche Nordique
ATTACH;FMTTYPE=image/png:https://ufolep38.org/wp-content/uploads/2026/01/ufolep-38-affiche-marche-nordique-finale1-130-scaled.png
END:VEVENT
BEGIN:VEVENT
DTSTART;VALUE=DATE:20260516
DTEND;VALUE=DATE:20260517
DTSTAMP:20260423T192113
CREATED:20260326T100604Z
LAST-MODIFIED:20260326T100604Z
UID:74650-1778889600-1778975999@ufolep38.org
SUMMARY:PARKOUR - Journée Open Parkour
DESCRIPTION:
URL:https://ufolep38.org/events/parkour-journee-open-parkour/
LOCATION:Montélimar (26)
ATTACH;FMTTYPE=application/pdf:https://ufolep38.org/wp-content/uploads/2026/03/ufolep-38-Dossier-Open-de-Parkour-2026-1-177.pdf
END:VEVENT
BEGIN:VEVENT
DTSTART;VALUE=DATE:20260520
DTEND;VALUE=DATE:20260521
DTSTAMP:20260423T192113
CREATED:20260203T094640Z
LAST-MODIFIED:20260203T094640Z
UID:74067-1779235200-1779321599@ufolep38.org
SUMMARY:UFOSTREET
DESCRIPTION:
URL:https://ufolep38.org/events/ufostreet/
END:VEVENT
BEGIN:VEVENT
DTSTART;VALUE=DATE:20260523
DTEND;VALUE=DATE:20260524
DTSTAMP:20260423T192113
CREATED:20260312T081409Z
LAST-MODIFIED:20260325T100540Z
UID:74364-1779494400-1779580799@ufolep38.org
SUMMARY:Journée UFOBABY & Inauguration maison UFOLEP 38
DESCRIPTION:Inscriptions à partir du 1er avril 2026
URL:https://ufolep38.org/events/journee-ufobaby-inauguration-maison-ufolep-38/
LOCATION:Tullins (38)\, France
ATTACH;FMTTYPE=application/pdf:https://ufolep38.org/wp-content/uploads/2026/03/ufolep-38-Journee-UFOBABY-Inauguration-157.pdf
END:VEVENT
BEGIN:VEVENT
DTSTART;VALUE=DATE:20260523
DTEND;VALUE=DATE:20260525
DTSTAMP:20260423T192113
CREATED:20260119T125608Z
LAST-MODIFIED:20260119T125608Z
UID:73857-1779494400-1779667199@ufolep38.org
SUMMARY:FOOTBALL - Coupes Nationales à 11
DESCRIPTION:
URL:https://ufolep38.org/events/football-coupes-nationales-a-11/
LOCATION:Beuvrages (59)
CATEGORIES:Gymnastique
END:VEVENT
BEGIN:VEVENT
DTSTART;VALUE=DATE:20260523
DTEND;VALUE=DATE:20260525
DTSTAMP:20260423T192113
CREATED:20260413T142559Z
LAST-MODIFIED:20260413T142559Z
UID:74789-1779494400-1779667199@ufolep38.org
SUMMARY:VOLLEY - Finales Nationales Adultes Ufolep
DESCRIPTION:Circulaire
URL:https://ufolep38.org/events/volley-finales-nationales-adultes-ufolep/
LOCATION:Champniers & Saint-Yrieix (16)
CATEGORIES:Volley-ball
ATTACH;FMTTYPE=application/pdf:https://ufolep38.org/wp-content/uploads/2026/04/ufolep-38-Affiche-NATIONAL-UFOLEP-VOLLEY-23-ET-24-MAI-2026-CIRCULAIRE-132.pdf
END:VEVENT
BEGIN:VEVENT
DTSTART;VALUE=DATE:20260523
DTEND;VALUE=DATE:20260525
DTSTAMP:20260423T192113
CREATED:20260416T080604Z
LAST-MODIFIED:20260416T080604Z
UID:74799-1779494400-1779667199@ufolep38.org
SUMMARY:NATATION - Championnat National
DESCRIPTION:Circulaire
URL:https://ufolep38.org/events/natation-championnat-national/
LOCATION:Calais (62)
CATEGORIES:Natation
ATTACH;FMTTYPE=application/pdf:https://ufolep38.org/wp-content/uploads/2026/04/ufolep-38-Affiche_natation_2026-181.pdf
END:VEVENT
BEGIN:VEVENT
DTSTART;VALUE=DATE:20260523
DTEND;VALUE=DATE:20260526
DTSTAMP:20260423T192113
CREATED:20260119T130522Z
LAST-MODIFIED:20260119T130522Z
UID:73866-1779494400-1779753599@ufolep38.org
SUMMARY:TENNIS - Coupe Macé de Tennis
DESCRIPTION:
URL:https://ufolep38.org/events/tennis-coupe-mace-de-tennis/
LOCATION:Colmar (68)
CATEGORIES:Gymnastique
END:VEVENT
BEGIN:VEVENT
DTSTART;VALUE=DATE:20260523
DTEND;VALUE=DATE:20260608
DTSTAMP:20260423T192113
CREATED:20260113T140500Z
LAST-MODIFIED:20260311T105110Z
UID:73798-1779494400-1780876799@ufolep38.org
SUMMARY:Quinzaine nationale Sport et Petite Enfance
DESCRIPTION:
URL:https://ufolep38.org/events/quinzaine-nationale-sport-et-petite-enfance/
ATTACH;FMTTYPE=image/png:https://ufolep38.org/wp-content/uploads/2026/01/ufolep-38-image-58.png
END:VEVENT
BEGIN:VEVENT
DTSTART;VALUE=DATE:20260524
DTEND;VALUE=DATE:20260525
DTSTAMP:20260423T192113
CREATED:20260119T130839Z
LAST-MODIFIED:20260119T130839Z
UID:73869-1779580800-1779667199@ufolep38.org
SUMMARY:TIR À L'ARC - Championnat National
DESCRIPTION:
URL:https://ufolep38.org/events/tir-a-larc-championnat-national-3/
LOCATION:Conty (80)
END:VEVENT
BEGIN:VEVENT
DTSTART;VALUE=DATE:20260530
DTEND;VALUE=DATE:20260531
DTSTAMP:20260423T192113
CREATED:20260311T081625Z
LAST-MODIFIED:20260311T081625Z
UID:74340-1780099200-1780185599@ufolep38.org
SUMMARY:CYCLISME - Grimpée du Collet d'Allevard
DESCRIPTION:
URL:https://ufolep38.org/events/cyclisme-grimpee-du-collet-dallevard-2/
CATEGORIES:Cyclisme
END:VEVENT
BEGIN:VEVENT
DTSTART;VALUE=DATE:20260530
DTEND;VALUE=DATE:20260601
DTSTAMP:20260423T192113
CREATED:20251028T082010Z
LAST-MODIFIED:20260420T113608Z
UID:72409-1780099200-1780271999@ufolep38.org
SUMMARY:GYMNASTIQUE ARTISTIQUE - Finales Jeunes Groupe 2
DESCRIPTION:Circulaire
URL:https://ufolep38.org/events/gymnastique-artistique-finale-filiere-jeune-g2-2/
LOCATION:Trets (13)
CATEGORIES:Gymnastique
ATTACH;FMTTYPE=image/png:https://ufolep38.org/wp-content/uploads/2025/10/ufolep-38-Finales-Jeunes-GA-186.png
END:VEVENT
BEGIN:VEVENT
DTSTART;VALUE=DATE:20260530
DTEND;VALUE=DATE:20260601
DTSTAMP:20260423T192113
CREATED:20251120T084100Z
LAST-MODIFIED:20251120T084100Z
UID:72978-1780099200-1780271999@ufolep38.org
SUMMARY:GRS - Championnat national Équipes & Festival
DESCRIPTION:
URL:https://ufolep38.org/events/grs-championnat-national-equipes-festival/
LOCATION:Boé (47)\, France
CATEGORIES:GRS
END:VEVENT
BEGIN:VEVENT
DTSTART;VALUE=DATE:20260531
DTEND;VALUE=DATE:20260601
DTSTAMP:20260423T192113
CREATED:20260311T081753Z
LAST-MODIFIED:20260311T081753Z
UID:74342-1780185600-1780271999@ufolep38.org
SUMMARY:CYCLISME - Grimpée de La Morte
DESCRIPTION:
URL:https://ufolep38.org/events/cyclisme-grimpee-de-la-morte/
CATEGORIES:Cyclisme
END:VEVENT
END:VCALENDAR