BEGIN:VCALENDAR
VERSION:2.0
PRODID:-//UFOLEP 38 - ECPv6.15.20//NONSGML v1.0//EN
CALSCALE:GREGORIAN
METHOD:PUBLISH
X-ORIGINAL-URL:https://ufolep38.org
X-WR-CALDESC:Évènements pour UFOLEP 38
REFRESH-INTERVAL;VALUE=DURATION:PT1H
X-Robots-Tag:noindex
X-PUBLISHED-TTL:PT1H
BEGIN:VTIMEZONE
TZID:Europe/Paris
BEGIN:DAYLIGHT
TZOFFSETFROM:+0100
TZOFFSETTO:+0200
TZNAME:CEST
DTSTART:20250330T010000
END:DAYLIGHT
BEGIN:STANDARD
TZOFFSETFROM:+0200
TZOFFSETTO:+0100
TZNAME:CET
DTSTART:20251026T010000
END:STANDARD
BEGIN:DAYLIGHT
TZOFFSETFROM:+0100
TZOFFSETTO:+0200
TZNAME:CEST
DTSTART:20260329T010000
END:DAYLIGHT
BEGIN:STANDARD
TZOFFSETFROM:+0200
TZOFFSETTO:+0100
TZNAME:CET
DTSTART:20261025T010000
END:STANDARD
BEGIN:DAYLIGHT
TZOFFSETFROM:+0100
TZOFFSETTO:+0200
TZNAME:CEST
DTSTART:20270328T010000
END:DAYLIGHT
BEGIN:STANDARD
TZOFFSETFROM:+0200
TZOFFSETTO:+0100
TZNAME:CET
DTSTART:20271031T010000
END:STANDARD
END:VTIMEZONE
BEGIN:VEVENT
DTSTART;VALUE=DATE:20260523
DTEND;VALUE=DATE:20260608
DTSTAMP:20260423T210337
CREATED:20260113T140500Z
LAST-MODIFIED:20260311T105110Z
UID:73798-1779494400-1780876799@ufolep38.org
SUMMARY:Quinzaine nationale Sport et Petite Enfance
DESCRIPTION:
URL:https://ufolep38.org/events/quinzaine-nationale-sport-et-petite-enfance/
ATTACH;FMTTYPE=image/png:https://ufolep38.org/wp-content/uploads/2026/01/ufolep-38-image-58.png
END:VEVENT
BEGIN:VEVENT
DTSTART;VALUE=DATE:20260606
DTEND;VALUE=DATE:20260608
DTSTAMP:20260423T210337
CREATED:20260119T131338Z
LAST-MODIFIED:20260311T104948Z
UID:73878-1780704000-1780876799@ufolep38.org
SUMMARY:GYMNASTIQUE ARTISTIQUE - Finale Nationale
DESCRIPTION:
URL:https://ufolep38.org/events/gymnastique-artistique-finale-nationale-3/
LOCATION:Clermont-Ferrand (63)
CATEGORIES:Gymnastique
ATTACH;FMTTYPE=image/jpeg:https://ufolep38.org/wp-content/uploads/2026/01/ufolep-38-image-720x1024-58.jpeg
END:VEVENT
BEGIN:VEVENT
DTSTART;VALUE=DATE:20260606
DTEND;VALUE=DATE:20260608
DTSTAMP:20260423T210337
CREATED:20260119T131441Z
LAST-MODIFIED:20260311T105020Z
UID:73880-1780704000-1780876799@ufolep38.org
SUMMARY:TRAMPOLINE - Challenge National Jeunes
DESCRIPTION:
URL:https://ufolep38.org/events/trampoline-challenge-national-jeunes/
LOCATION:Clermont-Ferrand (63)
CATEGORIES:Trampoline
ATTACH;FMTTYPE=image/jpeg:https://ufolep38.org/wp-content/uploads/2026/01/ufolep-38-image-720x1024-58.jpeg
END:VEVENT
BEGIN:VEVENT
DTSTART;VALUE=DATE:20260607
DTEND;VALUE=DATE:20260608
DTSTAMP:20260423T210337
CREATED:20260119T131706Z
LAST-MODIFIED:20260119T131706Z
UID:73882-1780790400-1780876799@ufolep38.org
SUMMARY:GRS - Finale jeunesse Zone Nord
DESCRIPTION:
URL:https://ufolep38.org/events/grs-finale-jeunesse-zone-nord/
LOCATION:Haubourdin (59)
CATEGORIES:GRS
END:VEVENT
BEGIN:VEVENT
DTSTART;VALUE=DATE:20260607
DTEND;VALUE=DATE:20260608
DTSTAMP:20260423T210337
CREATED:20260407T073303Z
LAST-MODIFIED:20260407T073303Z
UID:74694-1780790400-1780876799@ufolep38.org
SUMMARY:CYCLISME - Grand Prix de Nôtre Dame de l'Osier
DESCRIPTION:
URL:https://ufolep38.org/events/cyclisme-grand-prix-de-notre-dame-de-losier/
LOCATION:Notre Dame de l’Osier (38)
CATEGORIES:Cyclisme
END:VEVENT
BEGIN:VEVENT
DTSTART;VALUE=DATE:20260608
DTEND;VALUE=DATE:20260622
DTSTAMP:20260423T210337
CREATED:20260113T140619Z
LAST-MODIFIED:20260113T140619Z
UID:73800-1780876800-1782086399@ufolep38.org
SUMMARY:Festival du Sport Autrement
DESCRIPTION:
URL:https://ufolep38.org/events/festival-du-sport-autrement/
LOCATION:Paris (75)
END:VEVENT
BEGIN:VEVENT
DTSTART;VALUE=DATE:20260614
DTEND;VALUE=DATE:20260615
DTSTAMP:20260423T210337
CREATED:20251021T122729Z
LAST-MODIFIED:20251104T123042Z
UID:72355-1781395200-1781481599@ufolep38.org
SUMMARY:NATATION - Trophées des Dauphins
DESCRIPTION:
URL:https://ufolep38.org/events/natation-trophees-des-dauphins/
LOCATION:Morestel (38)\, Les Balcons du Dauphiné - 389 rue François Perrin\, Morestel\, 38510\, France
CATEGORIES:Natation
ATTACH;FMTTYPE=image/png:https://ufolep38.org/wp-content/uploads/2025/10/ufolep-38-Morestel-Trophee-des-dauphins-21.png
END:VEVENT
BEGIN:VEVENT
DTSTART;VALUE=DATE:20260614
DTEND;VALUE=DATE:20260615
DTSTAMP:20260423T210337
CREATED:20251028T082254Z
LAST-MODIFIED:20251028T082254Z
UID:72415-1781395200-1781481599@ufolep38.org
SUMMARY:GYMNASTIQUE ARTISTIQUE - 3ème Parcours
DESCRIPTION:
URL:https://ufolep38.org/events/gymnastique-artistique-3eme-parcours-3/
LOCATION:Heyrieux (38)
CATEGORIES:Gymnastique
END:VEVENT
BEGIN:VEVENT
DTSTART;VALUE=DATE:20260614
DTEND;VALUE=DATE:20260615
DTSTAMP:20260423T210337
CREATED:20260311T081849Z
LAST-MODIFIED:20260311T081849Z
UID:74344-1781395200-1781481599@ufolep38.org
SUMMARY:CYCLISME - Régional UFOLEP
DESCRIPTION:
URL:https://ufolep38.org/events/cyclisme-regional-ufolep/
CATEGORIES:Cyclisme
END:VEVENT
BEGIN:VEVENT
DTSTART;VALUE=DATE:20260614
DTEND;VALUE=DATE:20260615
DTSTAMP:20260423T210337
CREATED:20260414T063632Z
LAST-MODIFIED:20260414T063632Z
UID:74793-1781395200-1781481599@ufolep38.org
SUMMARY:VOLLEY - Tournoi Green Volley
DESCRIPTION:
URL:https://ufolep38.org/events/volley-tournoi-green-volley/
LOCATION:St Jean de Soudain (38)
CATEGORIES:Volley-ball
ATTACH;FMTTYPE=image/jpeg:https://ufolep38.org/wp-content/uploads/2026/04/ufolep-38-PHOTO-2026-04-09-11-16-08-155.jpg
END:VEVENT
BEGIN:VEVENT
DTSTART;VALUE=DATE:20260616
DTEND;VALUE=DATE:20260617
DTSTAMP:20260423T210337
CREATED:20251118T070608Z
LAST-MODIFIED:20251118T070608Z
UID:72938-1781568000-1781654399@ufolep38.org
SUMMARY:TAEKWONDO - Stade vers l'emploi avec France Travail
DESCRIPTION:
URL:https://ufolep38.org/events/taekwondo-stade-vers-lemploi-avec-france-travail/
LOCATION:Le Grand Lemps (38)
END:VEVENT
BEGIN:VEVENT
DTSTART;VALUE=DATE:20260621
DTEND;VALUE=DATE:20260622
DTSTAMP:20260423T210337
CREATED:20260312T143153Z
LAST-MODIFIED:20260312T143153Z
UID:74369-1782000000-1782086399@ufolep38.org
SUMMARY:CYCLISME - Défi Matheysin Mix CLM / Grimpée
DESCRIPTION:
URL:https://ufolep38.org/events/cyclisme-defi-matheysin-mix-clm-grimpee/
LOCATION:Pierre-Chatel (38)
CATEGORIES:Cyclisme
END:VEVENT
BEGIN:VEVENT
DTSTART;VALUE=DATE:20260627
DTEND;VALUE=DATE:20260629
DTSTAMP:20260423T210337
CREATED:20260119T132104Z
LAST-MODIFIED:20260119T132104Z
UID:73885-1782518400-1782691199@ufolep38.org
SUMMARY:BOULES LYONNAISES - Championnat National
DESCRIPTION:
URL:https://ufolep38.org/events/boules-lyonnaises-championnat-national/
LOCATION:Dardilly (69)
END:VEVENT
BEGIN:VEVENT
DTSTART;VALUE=DATE:20260627
DTEND;VALUE=DATE:20260629
DTSTAMP:20260423T210337
CREATED:20260119T132236Z
LAST-MODIFIED:20260119T132236Z
UID:73888-1782518400-1782691199@ufolep38.org
SUMMARY:TWIRLING BÂTON - Championnat National
DESCRIPTION:
URL:https://ufolep38.org/events/twirling-baton-championnat-national/
LOCATION:Le Blanc (36)
END:VEVENT
BEGIN:VEVENT
DTSTART;VALUE=DATE:20260628
DTEND;VALUE=DATE:20260629
DTSTAMP:20260423T210337
CREATED:20260326T105915Z
LAST-MODIFIED:20260326T110049Z
UID:74653-1782604800-1782691199@ufolep38.org
SUMMARY:MULTISPORTS - Tournoi Sports Innovants
DESCRIPTION:💥 TOURNOI SPORTS INNOVANTS💥 \n  \nViens t’amuser et te défier entres potes ! 🏆 \n📆 Dimanche 28 Juin 2026 \n⏳ Accueil à 9h30 – Début du tournoi 10h (Fin prévisionnelle 16h)  \n📍Stade de foot (Avenue du stade) – St Clair de la Tour (38110) \nInscris-toi à 1\, à 2 ou aux 3 tournois : Tournoi Tchoukball / Tournoi FooBaSkill / Tournoi Flag Rugby \nBuvette et Restauration 🌭🍻 \nEquipe mixte de 6 (à partir de 14 ans) \n🚨 Inscription obligatoire avec le QR code https://docs.google.com/forms/d/e/1FAIpQLSfF6CbanKVwuuDU0M1PgY3FkYV_i7tcpsA6rY-IJxYeDJ50kg/viewform?usp=header \n⚠️ Nombre d’équipe limité\, fin des inscriptions le 06 juin 2026 ⚠️ \n💸 Règlement : Espèces ou Virement (à régler après la confirmation d’inscription)  \nParticipation à 1 tournoi = 10€/Équipe \nParticipation à 2 tournois = 15€/Équipe \nParticipation à 3 tournois = 20€/Équipe \n🏆 Démarrage du tournoi en poule. \nLes vainqueurs des poules poursuivrons sous forme de tableau pour arriver au phase finale \nLe podium sera récompensé ✨ \nPetites animations (stand sportif) pour les temps d’attente entre les matchs (Possibilité de prévoir ses boules de pétanques) ☀️ \nA partager autour de toi ! 🙏🏼 \n📧 Informations supplémentaires : asapmultisports@gmail.com \n(07.62.88.91.39 – SMS Uniquement)
URL:https://ufolep38.org/events/multisports-tournoi-sports-innovants/
LOCATION:Saint Clair de la Tour
CATEGORIES:Multisports
ATTACH;FMTTYPE=image/jpeg:https://ufolep38.org/wp-content/uploads/2026/03/ufolep-38-64a4897c-9188-4aa7-94eb-9f9ee55297e7-182.jpg
END:VEVENT
END:VCALENDAR