BEGIN:VCALENDAR
VERSION:2.0
PRODID:-//UFOLEP 38 - ECPv6.15.20//NONSGML v1.0//EN
CALSCALE:GREGORIAN
METHOD:PUBLISH
X-ORIGINAL-URL:https://ufolep38.org
X-WR-CALDESC:Évènements pour UFOLEP 38
REFRESH-INTERVAL;VALUE=DURATION:PT1H
X-Robots-Tag:noindex
X-PUBLISHED-TTL:PT1H
BEGIN:VTIMEZONE
TZID:Europe/Paris
BEGIN:DAYLIGHT
TZOFFSETFROM:+0100
TZOFFSETTO:+0200
TZNAME:CEST
DTSTART:20250330T010000
END:DAYLIGHT
BEGIN:STANDARD
TZOFFSETFROM:+0200
TZOFFSETTO:+0100
TZNAME:CET
DTSTART:20251026T010000
END:STANDARD
BEGIN:DAYLIGHT
TZOFFSETFROM:+0100
TZOFFSETTO:+0200
TZNAME:CEST
DTSTART:20260329T010000
END:DAYLIGHT
BEGIN:STANDARD
TZOFFSETFROM:+0200
TZOFFSETTO:+0100
TZNAME:CET
DTSTART:20261025T010000
END:STANDARD
BEGIN:DAYLIGHT
TZOFFSETFROM:+0100
TZOFFSETTO:+0200
TZNAME:CEST
DTSTART:20270328T010000
END:DAYLIGHT
BEGIN:STANDARD
TZOFFSETFROM:+0200
TZOFFSETTO:+0100
TZNAME:CET
DTSTART:20271031T010000
END:STANDARD
END:VTIMEZONE
BEGIN:VEVENT
DTSTART;VALUE=DATE:20260703
DTEND;VALUE=DATE:20260706
DTSTAMP:20260424T000114
CREATED:20260119T132432Z
LAST-MODIFIED:20260119T132432Z
UID:73891-1783036800-1783295999@ufolep38.org
SUMMARY:TIR SPORTIF - Championnat National Disciplines Nouvelles de Tir Sportif
DESCRIPTION:
URL:https://ufolep38.org/events/tir-sportif-championnat-national-disciplines-nouvelles-de-tir-sportif/
LOCATION:Chatenoy le Royal (71)
CATEGORIES:Tir sportif
END:VEVENT
BEGIN:VEVENT
DTSTART;VALUE=DATE:20260703
DTEND;VALUE=DATE:20260706
DTSTAMP:20260424T000114
CREATED:20260119T132551Z
LAST-MODIFIED:20260119T132551Z
UID:73894-1783036800-1783295999@ufolep38.org
SUMMARY:TIR SPORTIF - Championnat National Été
DESCRIPTION:
URL:https://ufolep38.org/events/tir-sportif-championnat-national-ete/
LOCATION:Chatenoy le Royal (71)
CATEGORIES:Tir sportif
END:VEVENT
BEGIN:VEVENT
DTSTART;VALUE=DATE:20260704
DTEND;VALUE=DATE:20260706
DTSTAMP:20260424T000114
CREATED:20260119T132734Z
LAST-MODIFIED:20260119T132734Z
UID:73896-1783123200-1783295999@ufolep38.org
SUMMARY:PÉTANQUE - Championnat National
DESCRIPTION:
URL:https://ufolep38.org/events/petanque-championnat-national-2/
LOCATION:Bergerac (24)
END:VEVENT
BEGIN:VEVENT
DTSTART;VALUE=DATE:20260705
DTEND;VALUE=DATE:20260706
DTSTAMP:20260424T000114
CREATED:20260119T133038Z
LAST-MODIFIED:20260119T133038Z
UID:73899-1783209600-1783295999@ufolep38.org
SUMMARY:TIR À L'ARC - Challenge National Jeunes et Championnat National Sarbacane de Tir à l'Arc
DESCRIPTION:
URL:https://ufolep38.org/events/tir-a-larc-challenge-national-jeunes-et-championnat-national-sarbacane-de-tir-a-larc/
LOCATION:Audenges (33)
END:VEVENT
BEGIN:VEVENT
DTSTART;VALUE=DATE:20260710
DTEND;VALUE=DATE:20260713
DTSTAMP:20260424T000114
CREATED:20260119T133229Z
LAST-MODIFIED:20260119T133229Z
UID:73902-1783641600-1783900799@ufolep38.org
SUMMARY:CYCLISME - Championnat National Cyclosport d'Activités Cyclistes
DESCRIPTION:
URL:https://ufolep38.org/events/cyclisme-championnat-national-cyclosport-dactivites-cyclistes/
LOCATION:Foussignac (16)
CATEGORIES:Cyclisme
END:VEVENT
BEGIN:VEVENT
DTSTART;VALUE=DATE:20260710
DTEND;VALUE=DATE:20260715
DTSTAMP:20260424T000114
CREATED:20250908T122811Z
LAST-MODIFIED:20251028T082406Z
UID:71164-1783641600-1784073599@ufolep38.org
SUMMARY:GYMNASTIQUE ARTISTIQUE - BFA
DESCRIPTION:Inscriptions
URL:https://ufolep38.org/events/gymnastique-artistique-bfa/
LOCATION:Montluel (01)
CATEGORIES:Gymnastique
ATTACH;FMTTYPE=image/png:https://ufolep38.org/wp-content/uploads/2025/09/ufolep-38-4-140.png
END:VEVENT
BEGIN:VEVENT
DTSTART;VALUE=DATE:20260713
DTEND;VALUE=DATE:20260718
DTSTAMP:20260424T000114
CREATED:20260106T091810Z
LAST-MODIFIED:20260106T091810Z
UID:73591-1783900800-1784332799@ufolep38.org
SUMMARY:MULTISPORTS - ASAP Colo : Séjour Multisports
DESCRIPTION:
URL:https://ufolep38.org/events/multisports-asap-colo-sejour-multisports/
LOCATION:Montrevel en Bresse (01)
CATEGORIES:Multisports
ATTACH;FMTTYPE=image/png:https://ufolep38.org/wp-content/uploads/2026/01/ufolep-38-1-1.png
END:VEVENT
BEGIN:VEVENT
DTSTART;VALUE=DATE:20260717
DTEND;VALUE=DATE:20260722
DTSTAMP:20260424T000114
CREATED:20260106T092124Z
LAST-MODIFIED:20260106T092124Z
UID:73595-1784246400-1784678399@ufolep38.org
SUMMARY:JUDO / MULTISPORTS - Stage d'été
DESCRIPTION:
URL:https://ufolep38.org/events/judo-multisports-stage-dete/
LOCATION:Montrevel en Bresse (01)
CATEGORIES:Multisports
ATTACH;FMTTYPE=image/png:https://ufolep38.org/wp-content/uploads/2026/01/ufolep-38-2-9.png
END:VEVENT
BEGIN:VEVENT
DTSTART;VALUE=DATE:20260721
DTEND;VALUE=DATE:20260727
DTSTAMP:20260424T000114
CREATED:20260106T092336Z
LAST-MODIFIED:20260106T092336Z
UID:73598-1784592000-1785110399@ufolep38.org
SUMMARY:JUDO / MULTISPORTS - Stage d'été
DESCRIPTION:
URL:https://ufolep38.org/events/judo-multisports-stage-dete-2/
LOCATION:Montrevel en Bresse (01)
CATEGORIES:Multisports
ATTACH;FMTTYPE=image/png:https://ufolep38.org/wp-content/uploads/2026/01/ufolep-38-3-17.png
END:VEVENT
END:VCALENDAR