BEGIN:VCALENDAR
VERSION:2.0
PRODID:-//UFOLEP 38 - ECPv6.15.20//NONSGML v1.0//EN
CALSCALE:GREGORIAN
METHOD:PUBLISH
X-ORIGINAL-URL:https://ufolep38.org
X-WR-CALDESC:Évènements pour UFOLEP 38
REFRESH-INTERVAL;VALUE=DURATION:PT1H
X-Robots-Tag:noindex
X-PUBLISHED-TTL:PT1H
BEGIN:VTIMEZONE
TZID:Europe/Paris
BEGIN:DAYLIGHT
TZOFFSETFROM:+0100
TZOFFSETTO:+0200
TZNAME:CEST
DTSTART:20250330T010000
END:DAYLIGHT
BEGIN:STANDARD
TZOFFSETFROM:+0200
TZOFFSETTO:+0100
TZNAME:CET
DTSTART:20251026T010000
END:STANDARD
BEGIN:DAYLIGHT
TZOFFSETFROM:+0100
TZOFFSETTO:+0200
TZNAME:CEST
DTSTART:20260329T010000
END:DAYLIGHT
BEGIN:STANDARD
TZOFFSETFROM:+0200
TZOFFSETTO:+0100
TZNAME:CET
DTSTART:20261025T010000
END:STANDARD
BEGIN:DAYLIGHT
TZOFFSETFROM:+0100
TZOFFSETTO:+0200
TZNAME:CEST
DTSTART:20270328T010000
END:DAYLIGHT
BEGIN:STANDARD
TZOFFSETFROM:+0200
TZOFFSETTO:+0100
TZNAME:CET
DTSTART:20271031T010000
END:STANDARD
END:VTIMEZONE
BEGIN:VEVENT
DTSTART;VALUE=DATE:20260807
DTEND;VALUE=DATE:20260810
DTSTAMP:20260424T000037
CREATED:20251029T071126Z
LAST-MODIFIED:20251029T071126Z
UID:72566-1786060800-1786319999@ufolep38.org
SUMMARY:KART CROSS - National
DESCRIPTION:
URL:https://ufolep38.org/events/kart-cross-national/
CATEGORIES:Kart-cross
END:VEVENT
BEGIN:VEVENT
DTSTART;VALUE=DATE:20260821
DTEND;VALUE=DATE:20260824
DTSTAMP:20260424T000037
CREATED:20260119T133437Z
LAST-MODIFIED:20260119T133437Z
UID:73905-1787270400-1787529599@ufolep38.org
SUMMARY:SPORTS MÉCA AUTO - Championnat National Poursuite sur Terre
DESCRIPTION:
URL:https://ufolep38.org/events/sports-meca-auto-championnat-national-poursuite-sur-terre/
LOCATION:Faye l’Abbesse (79)
END:VEVENT
BEGIN:VEVENT
DTSTART;VALUE=DATE:20260829
DTEND;VALUE=DATE:20260831
DTSTAMP:20260424T000037
CREATED:20260119T133600Z
LAST-MODIFIED:20260119T133600Z
UID:73908-1787961600-1788134399@ufolep38.org
SUMMARY:PÉTANQUE - Challenge des associations Zone Sud
DESCRIPTION:
URL:https://ufolep38.org/events/petanque-challenge-des-associations-zone-sud/
LOCATION:Firminy (42)
END:VEVENT
END:VCALENDAR